BEGIN:VCALENDAR
VERSION:2.0
PRODID:http://www.infomax-online.de/imxeventmanager/
METHOD:PUBLISH
BEGIN:VTIMEZONE
TZID:Europe/Berlin
TZURL:http://tzurl.org/zoneinfo-outlook/Europe/Berlin
X-LIC-LOCATION:Europe/Berlin
END:VTIMEZONE
BEGIN:VEVENT
UID:69ea003315c5b
LOCATION:Fischerkamp , 23743 Grömitz
SUMMARY;ENCODING=QUOTED-PRINTABLE:Nordic Walking
DESCRIPTION;ENCODING=QUOTED-PRINTABLE:Nach einer Einweisung in die Technik und dem anschließenden=0D=0AAufwärmen geht es los auf die ca. 75 Minuten dauernde Tour durch das=0D=0Aschöne Grömitz. Zum Abschluss steht Stretching auf dem Programm.=0D=0ASportsachen und Stöcke sind nach Möglichkeit mitzubringen, aber auch=0D=0Aohne Stöcke kann man natürlich mitgehen. Die Teilnahme ist=0D=0Akostenlos.=0D=0A
URL;VALUE=URI:https://hamburgwhl.infomaxnet.de/standard_widget_de/e-nordic-walking-17?eventDateId=30165824&widgetToken=22vcqFKw4GE.&
CLASS:PUBLIC
DTSTART:20260430T093000
DTSTAMP:20260423T131915
END:VEVENT
END:VCALENDAR