BEGIN:VCALENDAR
VERSION:2.0
PRODID:http://www.infomax-online.de/imxeventmanager/
METHOD:PUBLISH
BEGIN:VTIMEZONE
TZID:Europe/Berlin
TZURL:http://tzurl.org/zoneinfo-outlook/Europe/Berlin
X-LIC-LOCATION:Europe/Berlin
END:VTIMEZONE
BEGIN:VEVENT
UID:69e9ff985dc93
LOCATION:Fischerkamp , 23743 Grömitz
SUMMARY;ENCODING=QUOTED-PRINTABLE:Boule im Kurpark
DESCRIPTION;ENCODING=QUOTED-PRINTABLE:Boule – der Seniorensport! Jeden Freitagvormittag werden pünktlich=0D=0Aum 10:30 Uhr die Mannschaften ausgespielt und dann geht es los. Auf=0D=0Abis zu vier Bahnen rollen dann die Kugeln Richtung "Schweinchen".=0D=0AGäste (auch Anfängerinnen und Anfänger) sind jederzeit willkommen.=0D=0AKugeln sind ausreichend vorhanden. Die Teilnahme ist kostenlos.=0D=0A
URL;VALUE=URI:https://hamburgwhl.infomaxnet.de/standard_widget_de/e-boule-im-kurpark?eventDateId=30165725&widgetToken=22vcqFKw4GE.&
CLASS:PUBLIC
DTSTART:20260424T103000
DTSTAMP:20260423T131640
END:VEVENT
END:VCALENDAR