BEGIN:VCALENDAR
VERSION:2.0
PRODID:http://www.infomax-online.de/imxeventmanager/
METHOD:PUBLISH
BEGIN:VTIMEZONE
TZID:Europe/Berlin
TZURL:http://tzurl.org/zoneinfo-outlook/Europe/Berlin
X-LIC-LOCATION:Europe/Berlin
END:VTIMEZONE
BEGIN:VEVENT
UID:69e67313395af
LOCATION:Amtsstraße 5, 19205 Gadebusch
SUMMARY;ENCODING=QUOTED-PRINTABLE:Wir feiern 20 Jahre Museumsanlage Gadebusch
DESCRIPTION;ENCODING=QUOTED-PRINTABLE:Familiennachmittag mit den "blechlotsen" und ihrem Musiktheater=0D=0A"Kranich Kalypso"=0D=0A=0D=0AZum 20. Geburtstag der Museumsanlage Gadebusch feiern wir auf den=0D=0AMuseumshof mit den "BLECHLOTSEN" und ihrem MUSIKTHEATER "KRANICH=0D=0AKALYPSO". Den bunten Familiennachmittag eröffnet die Tanzgruppe des=0D=0AKinder- und Jugendtreffs "FreiRaum". Auf dem Museumshof gibt es Kaffee=0D=0Aund Kuchen sowie tolle Mitmach-Angebote für die ganze Familie.=0D=0A=0D=0AWAS ERWARTET MICH....=0D=0AMusik trifft Natur – Auf Wanderschaft quer durch=0D=0AMäkelborg-Vörpommern treffen die fünf sympathischen Musikanten der=0D=0A_blechlotsen_ auf Kranich Kalypso. Angezogen und etwas abgelenkt von=0D=0Ader schönen Musik der düchtig Dörpkapell, legt der Kraun einen=0D=0Atollpatschigen Sturzflug hin und bricht sich einen Flügel. Es beginnt=0D=0Aein heiteres Kennenlernen, bei dem liebevolles Puppenspiel auf fetzige=0D=0ABlechblasmusik stößt, trompetende Gemeinsamkeiten entdeckt un ok een=0D=0Alütt bäten Platt snackt un lihrt ward. Ein 45-minütiges=0D=0AKonzertvergnügen für Groß und Klein ab 3 Jahren.=0D=0A=0D=0A
URL;VALUE=URI:https://hamburgwhl.infomaxnet.de/standard_widget_de/e-wir-feiern-20-jahre-museumsanlage-gadebusch?eventDateId=30165369&widgetToken=22vcqFKw4GE.&
CLASS:PUBLIC
DTSTART:20260425T140000
DTSTAMP:20260420T204019
END:VEVENT
END:VCALENDAR