BEGIN:VCALENDAR
VERSION:2.0
PRODID:http://www.infomax-online.de/imxeventmanager/
METHOD:PUBLISH
BEGIN:VTIMEZONE
TZID:Europe/Berlin
TZURL:http://tzurl.org/zoneinfo-outlook/Europe/Berlin
X-LIC-LOCATION:Europe/Berlin
END:VTIMEZONE
BEGIN:VEVENT
UID:69ea5f30dda15
LOCATION:Amtsstraße 5, 19205 Gadebusch
SUMMARY;ENCODING=QUOTED-PRINTABLE:Baustellenkonzert
DESCRIPTION;ENCODING=QUOTED-PRINTABLE:Konzert zur Sanierung des Gadebuscher Schlosses=0D=0A=0D=0ADer Gadebuscher Förderverein Renaissanceschloss und Museum lädt zu=0D=0Aeinem weiteren Konzert.=0D=0AAufgrund der stetigen Sanierung des Schlosses findet das Konzert in=0D=0Ader benachbarten Museumsanlage statt. Auf der Museumsdiele geniessen=0D=0ASie den renomierten Künstler Thorsten Rosenbusch, der viele Jahre 1.=0D=0AKonzertmeister in der Staatsoper "Unter den Linden" in Berlin war. Am=0D=0AKlavier wird er begleitet von Dr. Eckhard Möbius aus Schwerin. Durchs=0D=0AProgramm führt ebenfalls Dr. Möbius. Geniessen Sie die familiäre=0D=0AAtmosphäre im historischen Fachwerkbau.=0D=0A=0D=0AEinlass: 16:30 Uhr=0D=0ABeginn: 17:00 Uhr=0D=0A=0D=0AEintritt: 10 €=0D=0A
URL;VALUE=URI:https://hamburgwhl.infomaxnet.de/standard_widget_de/e-baustellenkonzert?eventDateId=30165365&widgetToken=22vcqFKw4GE.&
CLASS:PUBLIC
DTSTART:20260425T170000
DTSTAMP:20260423T200432
END:VEVENT
END:VCALENDAR