BEGIN:VCALENDAR
VERSION:2.0
PRODID:http://www.infomax-online.de/imxeventmanager/
METHOD:PUBLISH
BEGIN:VTIMEZONE
TZID:Europe/Berlin
TZURL:http://tzurl.org/zoneinfo-outlook/Europe/Berlin
X-LIC-LOCATION:Europe/Berlin
END:VTIMEZONE
BEGIN:VEVENT
UID:69e9bc73e477d
LOCATION:Am Dorfplatz 13, 19079 Sukow
SUMMARY;ENCODING=QUOTED-PRINTABLE:Gesundheitstag 2026 in Sukow
DESCRIPTION;ENCODING=QUOTED-PRINTABLE:Aktiv gesund in Sukow: Tipps, Trends und Mitmachangebote rund um=0D=0AErnährung, Bewegung und Wohlbefinden=0D=0A=0D=0A =0D=0A=0D=0ADer ERSTE GESUNDHEITSTAG IN SUKOW lädt Besucherinnen und Besucher=0D=0Ajeden Alters dazu ein, Gesundheit, Wohlbefinden und Prävention auf=0D=0Avielfältige und praxisnahe Weise zu entdecken. Im=0D=0ADorfgemeinschaftshaus präsentieren rund 20 REGIONALE AUSSTELLERINNEN=0D=0AUND AUSSTELLER ihre Angebote und geben spannende Einblicke in Themen=0D=0Awie ERNÄHRUNG, BEWEGUNG, HAUTPFLEGE, YOGA, NATURHEILKUNDE UND=0D=0AMIKRONÄHRSTOFFE. Auch Informationen zu PFLEGE, GESUNDHEIT IM ALTER=0D=0ASOWIE UNTERSTÜTZUNGSMÖGLICHKEITEN IM ALLTAG gehören zum Programm.=0D=0A=0D=0ANeben klassischen Informationsständen erwartet die Gäste ein=0D=0AABWECHSLUNGSREICHES MITMACHANGEBOT: =0D=0A=0D=0AIn kurzen VORTRÄGEN, praktischen DEMONSTRATIONEN und interaktiven=0D=0AAKTIONEN können Interessierte verschiedene Ansätze direkt=0D=0Aausprobieren und neue Impulse für ein gesundes Leben mitnehmen.=0D=0A=0D=0ADer Gesundheitstag ist bewusst offen und lebendig gestaltet –=0D=0ABesucherinnen und Besucher können sich frei bewegen, ins Gespräch=0D=0Akommen und individuell passende Angebote entdecken.=0D=0A=0D=0A =0D=0A=0D=0AAbgerundet wird der Tag durch GESUNDE SMOOTHIES, KLEINE SNACKS SOWIE=0D=0AKUCHEN UND TEES. Eine TOMBOLA mit attraktiven Preisen sorgt=0D=0Azusätzlich für UNTERHALTUNG BEI GROSS UND KLEIN. =0D=0A=0D=0ADer Gesundheitstag verbindet Information, Erlebnis und Austausch und=0D=0Amacht Gesundheit für alle Generationen greifbar.=0D=0A=0D=0A =0D=0A
URL;VALUE=URI:https://hamburgwhl.infomaxnet.de/standard_widget_de/e-gesundheitstag-2026-in-sukow?eventDateId=30165358&widgetToken=22vcqFKw4GE.&
CLASS:PUBLIC
DTSTART:20260425T100000
DTSTAMP:20260423T083011
END:VEVENT
END:VCALENDAR