BEGIN:VCALENDAR
VERSION:2.0
PRODID:http://www.infomax-online.de/imxeventmanager/
METHOD:PUBLISH
BEGIN:VTIMEZONE
TZID:Europe/Berlin
TZURL:http://tzurl.org/zoneinfo-outlook/Europe/Berlin
X-LIC-LOCATION:Europe/Berlin
END:VTIMEZONE
BEGIN:VEVENT
UID:69e98e0d2057e
LOCATION:Am Neumühler See 26, 19057 Schwerin
SUMMARY;ENCODING=QUOTED-PRINTABLE:Pflege neu gedacht – Arbeiten & Leben in der Wohngemeinschaft=0D=0A„Immergrün“
DESCRIPTION;ENCODING=QUOTED-PRINTABLE:Neugierig, wie Pflege in einer familiären WG wirklich funktioniert?=0D=0AOder suchen Sie ein neues Zuhause für sich oder Ihren Angehörigen?=0D=0AAm 23. April 2026 haben Sie die Gelegenheit, unsere neue=0D=0AWohngemeinschaft „Immergrün“ im Haus „Am Mühlenberg“=0D=0Akennenzulernen und sich selbst ein Bild zu machen.=0D=0A=0D=0AFür Pflegekräfte:=0D=0AEntdecken Sie spannende Perspektiven in einer modernen Pflege-WG:=0D=0AGestalten Sie Arbeitszeit als Lebenszeit, erleben Sie echtes=0D=0AMiteinander mit KollegInnen und BewohnerInnen und erfahren Sie alles=0D=0Aüber Jobs, Verdienst, Arbeitsbedingungen und=0D=0AEntwicklungsmöglichkeiten.=0D=0A=0D=0AFür zukünftige BewohnerInnen:=0D=0AErleben Sie, wie modernes Wohnen und Arbeiten in der Pflege heute=0D=0Aaussehen kann: In familiärer Atmosphäre leben sieben bis vierzehn=0D=0ABewohner zusammen, teilen einen gemütlichen Küchen- und Wohnbereich=0D=0Aund gestalten ihren Alltag gemeinsam. Gleichzeitig bietet ein eigenes=0D=0AZimmer den nötigen Rückzugsraum.=0D=0A=0D=0AFreuen Sie sich auf=0D=0A- Einblicke in den Alltag der WG=0D=0A- persönliche Gespräche mit unserem Team=0D=0A- Infos zu Jobs, Arbeitsbedingungen und Entwicklungsmöglichkeiten=0D=0A- kreative Mitmach-Aktionen=0D=0A- süße und herzhafte Snacks=0D=0A=0D=0AKommen Sie vorbei, stellen Sie Ihre Fragen und machen Sie sich Ihr=0D=0Aeigenes Bild – als zukünftiger Bewohner, Angehöriger oder=0D=0APflegekraft.=0D=0A
URL;VALUE=URI:https://hamburgwhl.infomaxnet.de/standard_widget_de/e-pflege-neu-gedacht-arbeiten-leben-in-der-wohngemeinschaft-immergruen?eventDateId=30165317&widgetToken=22vcqFKw4GE.&
CLASS:PUBLIC
DTSTART:20260423T113000
DTSTAMP:20260423T051213
END:VEVENT
END:VCALENDAR