BEGIN:VCALENDAR
VERSION:2.0
PRODID:http://www.infomax-online.de/imxeventmanager/
METHOD:PUBLISH
BEGIN:VTIMEZONE
TZID:Europe/Berlin
TZURL:http://tzurl.org/zoneinfo-outlook/Europe/Berlin
X-LIC-LOCATION:Europe/Berlin
END:VTIMEZONE
BEGIN:VEVENT
UID:69ea6f41a849f
LOCATION:Berner Heerweg 183, 22159 Hamburg
SUMMARY;ENCODING=QUOTED-PRINTABLE:Lindy Hop Beginner - Einstieg in den Swingtanz - Figuren=0D=0A„Promenades“
DESCRIPTION;ENCODING=QUOTED-PRINTABLE:Lindy Hop entstand in den 1920er und 1930er Jahren in den Ballrooms=0D=0Avon Harlem, New York, und verbindet afroamerikanische und=0D=0Aeuropäisch-amerikanische Tanztraditionen. Der Tanz lebt von offener=0D=0AHaltung, improvisierten Bewegungen und dem charakteristischen=0D=0A„Swingout“. Elemente aus Charleston, Blues Dance und Tap Dance=0D=0Afließen mit ein, was ihm eine besondere Energie und emotionale Tiefe=0D=0Averleiht. Im Zentrum steht ein Dialog zwischen Tanzpartner:innen und=0D=0Ader Musik. Klare Impulse und Gegenimpulste schaffen eine dynamische=0D=0AImprovisation, die jeden Tanz einzigartig macht. Inhalt des Workshops=0D=0Aist vor allem: Eight Count.=0D=0A
URL;VALUE=URI:https://hamburgwhl.infomaxnet.de/standard_widget_de/e-lindy-hop-beginner-einstieg-in-den-swingtanz-figuren-promenades?eventDateId=30165216&widgetToken=22vcqFKw4GE.&
CLASS:PUBLIC
DTSTART:20260426T140000
DTSTAMP:20260423T211305
END:VEVENT
END:VCALENDAR