BEGIN:VCALENDAR
VERSION:2.0
PRODID:http://www.infomax-online.de/imxeventmanager/
METHOD:PUBLISH
BEGIN:VTIMEZONE
TZID:Europe/Berlin
TZURL:http://tzurl.org/zoneinfo-outlook/Europe/Berlin
X-LIC-LOCATION:Europe/Berlin
END:VTIMEZONE
BEGIN:VEVENT
UID:69e6147cef0bc
LOCATION:Johannes-Brahms-Platz , 20355 Hamburg
SUMMARY;ENCODING=QUOTED-PRINTABLE:Grigory Sokolov
DESCRIPTION;ENCODING=QUOTED-PRINTABLE:Grigory Sokolov=0D=0AKlavier=0D=0A=0D=0ALudwig van Beethoven=0D=0ASonate Nr. 4 Es-Dur op. 7=0D=0A=0D=0ALudwig van Beethoven=0D=0ASechs Bagatellen op. 126=0D=0A=0D=0AFranz Schubert=0D=0ASonate B-Dur op. post. D 960=0D=0A=0D=0ASeine Fans wissen es: Grigory Sokolov gibt sein Programm erst im Lauf=0D=0Ades Konzertjahrs bekannt. Und eigentlich ist auch nicht wichtig, was=0D=0Aer spielt. Ob Franz Schubert oder Alexander Skrjabin, Johann Sebastian=0D=0ABach oder Wolfgang Amadeus Mozart, Frédéric Chopin oder=0D=0AJean-Philippe Rameau: Wenn Sokolov an den Tasten sitzt, darf man=0D=0AAußergewöhnliches erwarten. Kein Wunder, dass seine Konzerte meist=0D=0Abis auf den letzten Platz ausverkauft sind. Mit seiner überragenden=0D=0AKunst, die er stets ganz in den Dienst der Musik stellt, spielt er uns=0D=0Aseit Jahrzehnten – genau genommen seit seinem spektakulären Sieg=0D=0Abeim berühmten Tschaikowsky-Wettbewerb 1966 – in seinen Bann.=0D=0AZugaben sind wie immer garantiert ...=0D=0A
URL;VALUE=URI:https://hamburgwhl.infomaxnet.de/standard_widget_de/e-grigory-sokolov-4?eventDateId=30164500&widgetToken=22vcqFKw4GE.&
CLASS:PUBLIC
DTSTART:20260420T193000
DTSTAMP:20260420T135644
END:VEVENT
END:VCALENDAR