BEGIN:VCALENDAR
VERSION:2.0
PRODID:http://www.infomax-online.de/imxeventmanager/
METHOD:PUBLISH
BEGIN:VTIMEZONE
TZID:Europe/Berlin
TZURL:http://tzurl.org/zoneinfo-outlook/Europe/Berlin
X-LIC-LOCATION:Europe/Berlin
END:VTIMEZONE
BEGIN:VEVENT
UID:69e5ed4ed87e8
LOCATION:Platz der Deutschen Einheit 1, 20457 Hamburg
SUMMARY;ENCODING=QUOTED-PRINTABLE:Yixuan Hu
DESCRIPTION;ENCODING=QUOTED-PRINTABLE:Dieses Portraitkonzert der Komponistin Yixuan Hu im Kleinen Saal der=0D=0AElbphilharmonie markiert einen wichtigen Meilenstein ihres=0D=0Azehnjährigen kompositorischen Schaffens. Das Programm bündelt=0D=0Azentrale Fragestellungen ihrer Arbeit: das Verhältnis von Klang und=0D=0AKörper, individuelle Erzählformen und kollektive Stimmen sowie den=0D=0ADialog zwischen ostasiatischen musikalischen Erfahrungen und=0D=0Azeitgenössischen westlichen Kompositionskontexten. =0D=0A=0D=0AYixuan Hu absolvierte ihr Studium an der Zentralen Musikhochschule in=0D=0APeking und setzte ihre künstlerische Ausbildung an der Hochschule=0D=0Afür Musik und Theater Hamburg (HfMT) fort, wo sie das Konzertexam=0D=0AKomposition abschloss. Ihre Werke wurden von verschiedenen Festivals=0D=0Aund Institutionen in Europa und China in Auftrag gegeben und=0D=0Aaufgeführt. Ihr Œuvre umfasst Solo-, Kammer-, Vokal- und=0D=0ASchlagzeugwerke und zeichnet sich durch eine klare formale Sprache=0D=0Asowie eine ausgeprägte klangliche und körperliche Präsenz aus.=0D=0A=0D=0ADas Konzert vereint Klavier, Schlagzeug, Chor sowie westliche und=0D=0Aostasiatische Instrumente. In einer bewusst gestalteten Dramaturgie=0D=0Aentfaltet sich im intimen Raum des Kleinen Saals eine verdichtete=0D=0Amusikalische Spur ihres kompositorischen Weges. Das Projekt wird durch=0D=0Aden National Arts Fund of China (2026) gefördert.=0D=0A=0D=0ABESETZUNG=0D=0A=0D=0AYUSHENG FRAUENCHOR Chor=0D=0A=0D=0ACHUNYU JIANG Leitung=0D=0A=0D=0AMIN JIANG Pipa=0D=0A=0D=0AJIAYI SHAO Pipa=0D=0A=0D=0AIIRIS PIRI Violoncello=0D=0A=0D=0AYANHAO YANG Klavier=0D=0A=0D=0AMENGWEN MA Klavier=0D=0A=0D=0AXAVIER RICARTE Klavier=0D=0A=0D=0AJOANNA SIELICKA Klavier=0D=0A=0D=0ACHENG-JU CHANG Marimba=0D=0A=0D=0AYIXU WANG Percussion=0D=0A=0D=0AOSCAR TUDGE Percussion=0D=0A=0D=0AANNA SENDA-PIMENTEL Sopran=0D=0A=0D=0APROGRAMM=0D=0A=0D=0AYIXUAN HU=0D=0AThe Poetry from Wind and Rain=0D=0A=0D=0AYIXUAN HU=0D=0AIcarus II=0D=0A=0D=0AYIXUAN HU=0D=0AGuangdong Suite=0D=0A=0D=0AYIXUAN HU=0D=0ATaraxacum mongolicum=0D=0A=0D=0A- Pause -=0D=0A=0D=0AYIXUAN HU=0D=0AElizabeth’s Decision=0D=0A=0D=0AYIXUAN HU=0D=0AGlowing=0D=0A=0D=0AYIXUAN HU=0D=0ASpirit=0D=0A
URL;VALUE=URI:https://hamburgwhl.infomaxnet.de/standard_widget_de/e-yixuan-hu?eventDateId=30163893&widgetToken=22vcqFKw4GE.&
CLASS:PUBLIC
DTSTART:20260420T193000
DTSTAMP:20260420T110934
END:VEVENT
END:VCALENDAR