BEGIN:VCALENDAR
VERSION:2.0
PRODID:http://www.infomax-online.de/imxeventmanager/
METHOD:PUBLISH
BEGIN:VTIMEZONE
TZID:Europe/Berlin
TZURL:http://tzurl.org/zoneinfo-outlook/Europe/Berlin
X-LIC-LOCATION:Europe/Berlin
END:VTIMEZONE
BEGIN:VEVENT
UID:69eca2aae7c5e
LOCATION:Platz der Deutschen Einheit 1, 20457 Hamburg
SUMMARY;ENCODING=QUOTED-PRINTABLE:Württembergisches Kammerorchester Heilbronn / Herbert Schuch / Risto=0D=0AJoost
DESCRIPTION;ENCODING=QUOTED-PRINTABLE:»Illusion« und »Passion« sind zwei Grundvoraussetzungen für die=0D=0AEntstehung musikhistorischer Meilensteine. Eingeleitet von den=0D=0Agleichnamigen, das unendliche Texturpotenzial des Streichorchesters=0D=0Ahervorragend ausnutzenden Sätzen Erkki-Sven Tüürs, spannt sich der=0D=0Amusikalische Bogen über die Suite Nr. 3 aus Respighis »Danze ed Arie=0D=0Aantiche« – eine Verbindung historischer Elemente mit der=0D=0AFarbenpracht des 20. Jahrhunderts – bis hin zu Haydns Sinfonie in=0D=0Afis-Moll. Das kraftvolle, auch als »Trauersinfonie« bekannte, Werk=0D=0Adrückt sowohl tiefgründige Melancholie, als auch dramatische=0D=0ASpannungen aus. Im Mittelpunkt steht Mozarts Klavierkonzert mit dem=0D=0ABeinamen »Jeunehomme«, das durch seine elegante Form und die=0D=0Abrillante Klavierpartiem besticht. Es ist ein Meisterwerk der Wiener=0D=0AKlassik, das der dem Württembergisches Kammerorchester Heilbronn eng=0D=0Averbundene Pianist Herbert Schuch getreu seines Credos »nicht nur zum=0D=0AKlingen, sondern auch zum Sprechen« bringt.=0D=0A=0D=0ABESETZUNG=0D=0A=0D=0AWÜRTTEMBERGISCHES KAMMERORCHESTER HEILBRONN Kammerorchester=0D=0A=0D=0AHERBERT SCHUCH Klavier=0D=0A=0D=0ARISTO JOOST Dirigent=0D=0A=0D=0APROGRAMM=0D=0A=0D=0AERKKI-SVEN TÜÜR=0D=0APassion.Illusion=0D=0A=0D=0AWOLFGANG AMADEUS MOZART=0D=0AKonzert für Klavier und Orchester Es-Dur KV 271 »Jeunehomme«=0D=0A=0D=0A- Pause -=0D=0A=0D=0AOTTORINO RESPIGHI=0D=0AAntiche Danze ed Arie Suite Nr. 3 P 172=0D=0A=0D=0AJOSEPH HAYDN=0D=0ASinfonie fis-Moll Hob. I:45 »Abschiedssinfonie«=0D=0A
URL;VALUE=URI:https://hamburgwhl.infomaxnet.de/standard_widget_de/e-wuerttembergisches-kammerorchester-heilbronn-herbert-schuch-risto-joost?eventDateId=30163866&widgetToken=22vcqFKw4GE.&
CLASS:PUBLIC
DTSTART:20260428T193000
DTSTAMP:20260425T131658
END:VEVENT
END:VCALENDAR