BEGIN:VCALENDAR
VERSION:2.0
PRODID:http://www.infomax-online.de/imxeventmanager/
METHOD:PUBLISH
BEGIN:VTIMEZONE
TZID:Europe/Berlin
TZURL:http://tzurl.org/zoneinfo-outlook/Europe/Berlin
X-LIC-LOCATION:Europe/Berlin
END:VTIMEZONE
BEGIN:VEVENT
UID:69e90deb2396e
LOCATION:Fischerdamm 2, 19370 Parchim
SUMMARY;ENCODING=QUOTED-PRINTABLE:Das Heimatkleid
DESCRIPTION;ENCODING=QUOTED-PRINTABLE:von Kirsten Fuchs=0D=0A=0D=0Aab 12 Jahren=0D=0A=0D=0AAls Claires Schwester Luise zum Studieren in die USA geht, übernimmt=0D=0AClaire ihre Wohnung und steigt in Luises erfolgreichen Mode-Vlog ein.=0D=0A„Heimatkleid“ heißt das erste Label, das sie vorstellen soll. Das=0D=0AKonzept – Produktion ohne Ausbeutung, in Deutschland genäht –=0D=0Aklingt einleuchtend, gut aussehen tut das Kleid auch.=0D=0A=0D=0AAber mitten in Claires Interview mit der Labelgründerin fliegen=0D=0AFarbbeutel gegen die Schaufenster und draußen wird „Nazis raus“=0D=0Askandiert. Claire ist verstört: Was soll denn an einem so guten=0D=0AAnsatz verkehrt sein?=0D=0A=0D=0AAuch mit den neuen Nachbarn ist es nicht so einfach: Tom ist zwar=0D=0Ahilfsbereit und dazu verdammt attraktiv. Und dass er sich für seine=0D=0AÜberzeugungen einsetzt, gefällt Claire. Aber stimmt es wirklich,=0D=0Adass alle im Haus die neue Partei wählen werden, von der Tom so=0D=0Aschwärmt? Und warum behauptet er Dinge, von denen Claire weiß, dass=0D=0Asie nicht stimmen? Als Claire plötzlich Stellung beziehen muss,=0D=0Afällt ihr das alles andere als leicht.=0D=0A
URL;VALUE=URI:https://hamburgwhl.infomaxnet.de/standard_widget_de/e-das-heimatkleid-2?eventDateId=30162492&widgetToken=22vcqFKw4GE.&
CLASS:PUBLIC
DTSTART:20260423T100000
DTSTAMP:20260422T200531
END:VEVENT
END:VCALENDAR