BEGIN:VCALENDAR
VERSION:2.0
PRODID:http://www.infomax-online.de/imxeventmanager/
METHOD:PUBLISH
BEGIN:VTIMEZONE
TZID:Europe/Berlin
TZURL:http://tzurl.org/zoneinfo-outlook/Europe/Berlin
X-LIC-LOCATION:Europe/Berlin
END:VTIMEZONE
BEGIN:VEVENT
UID:69ed903acadda
LOCATION:Friedensallee 26, 22765 Hamburg
SUMMARY;ENCODING=QUOTED-PRINTABLE:"Aufblühen"-Workshop für Hochsensible am 25. & 26. April 2026
DESCRIPTION;ENCODING=QUOTED-PRINTABLE:"Aufblühen"-Workshop für Hochsensible am 25. & 26. April 2026=0D=0A=0D=0AWas brauchst du um ein schönes Leben mit Hochsensibilität führen zu=0D=0Akönnen?=0D=0A=0D=0AUm mit deinen sensitiven Kräften aufblühen zu können, dich=0D=0Aentfalten zu können?=0D=0A=0D=0AHiermit laden wir euch ganz herzlich ein zum "Aufblühen"-Workshop am=0D=0A=0D=0ASa 25. & So 26 April, zu einem Wochenende unter Hochsensiblen!=0D=0A=0D=0AErlebt, wie nährend und stärkend es sein kann, in einer=0D=0Avertrauensvollen=0D=0A=0D=0AGruppe von Hochsensiblen zu sein.=0D=0A=0D=0ASonja Simone (www.sonja-simone.de) und Cord vom Forschungsraum=0D=0AHochsensibilität=0D=0A=0D=0A(www.fr-hsp.de) sind wieder gemeinsam für euch da.=0D=0A=0D=0AWir laden euch ein, euch selbst in diesem Raum mehr zu entdecken,=0D=0A=0D=0Amutig und ehrlich gegenüber euch selbst und anderen zu sein.=0D=0A=0D=0AIn angeleiteten HSP-Treffen ergeben sich immer schöne Verbindungen.=0D=0AIm HSP-Cafe=0D=0A=0D=0A(montags, 18.00 Uhr, Café le Clé, HH-Eimsbüttel) ist dies schon zu=0D=0Aspüren.=0D=0A=0D=0AJetzt wollen wird diesen schönen Raum auf zwei Tage erweitern.=0D=0A=0D=0AZwei Tage, an denen ihr nichts müsst und vieles entdecken=0D=0A=0D=0Akönnt. So könnt ihr erfahren, dass ein geschützter Raum unter=0D=0AHochsensiblen=0D=0A=0D=0Aein besonderes Feld entstehen lässt, in dem Erkenntnisse und=0D=0AEntwicklungen=0D=0A=0D=0Aleichter möglich werden.=0D=0A=0D=0AGenießt zwei Tage lang den geschützten Raum und die Zeit unter=0D=0AHochsensiblen.=0D=0A=0D=0AEs wird eine kleine, aber feine Gruppe von max. 6 -8 Leuten sein, so=0D=0Adass alle Zeit=0D=0A=0D=0Afür ihre persönlichen Fragen haben werden.=0D=0A=0D=0A“Aufblühen“-Workshop für Hochsensible“ in Ottensen=0D=0A=0D=0ASamstag, den 25.04.2026 von 14.00 bis 18.00 Uhr und am=0D=0A=0D=0ASonntag, den 26.04.2026 von 10.00 bis 16.00 Uhr.=0D=0A=0D=0AWas Teilnehmer:innen unserer bisherigen Workshops sagen:=0D=0A=0D=0A„Ich konnte ganz bei mir sein und trotzdem mit euch. Mein Herz ist=0D=0Asehr berührt.“=0D=0A=0D=0A„Ich nehme viele neue Impulse, Anreize, Erinnerungen mit!“=0D=0A=0D=0A„So viel Achtsamkeit habe ich in den letzten 20 Jahren nicht=0D=0Aerlebt!“=0D=0A=0D=0AWir freuen uns auf ein schönes, nährendes Wochenende - vielleicht=0D=0Amit dir!?=0D=0A=0D=0ADie genaue Adresse erhaltet ihr nach der Anmeldung.=0D=0A=0D=0ADie Anmeldung ist bis Freitag, den 23.04.26 um 16.00 Uhr möglich.=0D=0A=0D=0ABei Fragen meldet euch gerne.=0D=0A=0D=0AViele Grüße=0D=0A=0D=0ASonja & Cord=0D=0A=0D=0ASonja Simone=0D=0A=0D=0Awww.sonja-simone.de=0D=0A=0D=0AForschungsraum Hochsensibilität=0D=0A=0D=0Awww.fr-hsp.de=0D=0A
URL;VALUE=URI:https://hamburgwhl.infomaxnet.de/standard_widget_de/e-aufbluehen-workshop-fuer-hochsensible-am-25-26-april-2026?eventDateId=30162328&widgetToken=22vcqFKw4GE.&
CLASS:PUBLIC
DTSTART:20260426T100000
DTSTAMP:20260426T061034
END:VEVENT
END:VCALENDAR