BEGIN:VCALENDAR
VERSION:2.0
PRODID:http://www.infomax-online.de/imxeventmanager/
METHOD:PUBLISH
BEGIN:VTIMEZONE
TZID:Europe/Berlin
TZURL:http://tzurl.org/zoneinfo-outlook/Europe/Berlin
X-LIC-LOCATION:Europe/Berlin
END:VTIMEZONE
BEGIN:VEVENT
UID:69ea5f980ead1
LOCATION:Feldstraße 66, 20359 Hamburg
SUMMARY;ENCODING=QUOTED-PRINTABLE:Flakturm auf dem Heiligengeistfeld – Gedenkort oder Eventort?
DESCRIPTION;ENCODING=QUOTED-PRINTABLE:Ein Rundgang rund um den ehemaligen Flakbunker an der Feldstraße=0D=0A=0D=0ASpätestens seit der Aufstockung und Begrünung des ehemaligen=0D=0AFlakturms auf dem Heiligengeistfeld ist dieses einzigartige Bauwerk=0D=0Aaus der NS-Zeit stark im Fokus der Öffentlichkeit. Während die Einen=0D=0Adie Verwandlung zum neuen Wahrzeichen Hamburgs begrüßen, kritisieren=0D=0Adie Anderen die Eventisierung dieses Ortes und beklagen den Verlust=0D=0Ades Mahnmal-Charakters. Auch wenn zwischenzeitlich einige=0D=0AInformationstafeln auf dem sog. Bergpfad installiert wurden, ist ein=0D=0Aangemessener Informations- und Gedenkort im oder auf dem ehemaligen=0D=0AFlakbunker noch nicht in Sicht.=0D=0A=0D=0ADer Rundgang befasst sich mit der Geschichte dieses Gebäudes und=0D=0Aseiner gegenwärtigen Nutzung.=0D=0A=0D=0AEine Veranstaltung im Rahmen der Woche des Gedenkens Hamburg-Mitte=0D=0A=0D=0ATreffpunkt: vor dem Haupteingang des Bunkers=0D=0A=0D=0AANMELDUNG UNTER: INFO@ST-PAULI-ARCHIV.DE=0D=0A=0D=0A =0D=0A
URL;VALUE=URI:https://hamburgwhl.infomaxnet.de/standard_widget_de/e-flakturm-auf-dem-heiligengeistfeld-gedenkort-oder-eventort?eventDateId=30162305&widgetToken=22vcqFKw4GE.&
CLASS:PUBLIC
DTSTART:20260425T120000
DTSTAMP:20260423T200616
END:VEVENT
END:VCALENDAR