BEGIN:VCALENDAR
VERSION:2.0
PRODID:http://www.infomax-online.de/imxeventmanager/
METHOD:PUBLISH
BEGIN:VTIMEZONE
TZID:Europe/Berlin
TZURL:http://tzurl.org/zoneinfo-outlook/Europe/Berlin
X-LIC-LOCATION:Europe/Berlin
END:VTIMEZONE
BEGIN:VEVENT
UID:69ed80707342f
LOCATION:Eulenstrasse 43, 22765 Hamburg
SUMMARY;ENCODING=QUOTED-PRINTABLE:klaMOTTEntauschrausch
DESCRIPTION;ENCODING=QUOTED-PRINTABLE: Liebe klaMOTTEnfreund*innen, endlich ist es wieder so weit. Wir=0D=0Aöffnen die Türen für den ersten klaMOTTEntauschrausch diesen=0D=0AJahres. Das Hoftor bleibt allerdings zu, denn die Baustelle hat uns=0D=0Anoch fest im Griff und das Baugerüst steht überall im Weg. Deshalb=0D=0Atauschen wir nur drinnen - so wie früher. Der Einlass ist dann in der=0D=0ARothestraße. Wir freuen uns über eine kleine Geld-Spende, damit das=0D=0Aehrenamtliche Team etwas Schönes zusammen machen kann.=0D=0A=0D=0AKostenloser Sonntagsspaß in chilliger Atmosphäre. Plündert eure=0D=0ASchränke und Kommoden und kommt in die MOTTE.Und wer selbst keine=0D=0AKlamotten, Schuhe, Accessoires etc. zum Tauschen hat, kommt einfach so=0D=0Avorbei. Wir haben nämlich einen Pool an schönen Sachen...Da sich=0D=0Aunsere Änderungen beim letzten Mal bewährt haben, gilt auch dieses=0D=0AMal: Bitte bringt maximal 15 Teile mit: nur Kleidung, Schuhe und=0D=0AAccessoires in gutem Zustand. Nichts Anderes. Die letzte Annahme=0D=0Aerfolgt um 15:30 Uhr, dann kann noch bis 16:00 Uhr gestöbert werden.=0D=0AFür den Einlass bitten wir um eine Spende von 2 ? oder mehr für das=0D=0AOrgateam. Wir freuen uns auf euch und die Schätze aus euren=0D=0ASchränken und Kommoden. =0D=0A=0D=0ADas klaMOTTEntauschteam Infos: jugend@diemotte.de,=0D=0Afacebook.com/tauschboerse.motte/ https://youtu.be/F2whySbHZIs =0D=0A=0D=0A
URL;VALUE=URI:https://hamburgwhl.infomaxnet.de/standard_widget_de/e-klamottentauschrausch-4?eventDateId=30159652&widgetToken=22vcqFKw4GE.&
CLASS:PUBLIC
DTSTART:20260426T120000
DTSTAMP:20260426T050312
END:VEVENT
END:VCALENDAR