BEGIN:VCALENDAR
VERSION:2.0
PRODID:http://www.infomax-online.de/imxeventmanager/
METHOD:PUBLISH
BEGIN:VTIMEZONE
TZID:Europe/Berlin
TZURL:http://tzurl.org/zoneinfo-outlook/Europe/Berlin
X-LIC-LOCATION:Europe/Berlin
END:VTIMEZONE
BEGIN:VEVENT
UID:69e8887d632ce
LOCATION:Johannes-Stelling-Straße 29, 19053 Schwerin
SUMMARY;ENCODING=QUOTED-PRINTABLE:Rilke-Gedichte vertont zum 100. Todestag des Dichters mit dem=0D=0AAZOLIA-Quartett, zu Gast Affäre Béla B.
DESCRIPTION;ENCODING=QUOTED-PRINTABLE:Exklusivkonzert im Rahmen der 17. Schweriner Jazznacht 2026=0D=0A=0D=0AMit großer klanglicher Sensibilität und einem unverwechselbaren=0D=0AEnsemblegeist vertont das internationale Quartett AZOLIA seit Jahren=0D=0ALyrik, die bewegt, erschüttert und Hoffnung schenkt. Nach dem=0D=0Aeindringlichen Programm zu Gedichten des britischen Poeten Wilfred=0D=0AOwen wendet sich die Band nun einer neuen literarischen Stimme zu:=0D=0ARainer Maria Rilke.=0D=0A=0D=0AZum 100. Todesjahr des Dichters im Jahr 2026 präsentiert AZOLIA ein=0D=0Aneues Programm, das ausgewählte Rilke-Gedichte in kammermusikalisch=0D=0Afeine, luftige und zugleich tief empfundene Musik kleidet.=0D=0A=0D=0ADie belgische Sängerin und Komponistin Sophie Tassignon, die=0D=0Adeutsch-amerikanische Alt-Saxophonistin, Klarinettistin, Sängerin und=0D=0AKomponistin Susanne Folk, der deutsche Bassklarinettist und=0D=0ASopransaxophonist Lothar Ohlmeier sowie der Schweizer Kontrabassist=0D=0AAndreas Waelti schöpfen aus einem reichen Erfahrungsschatz und einer=0D=0Agemeinsamen musikalischen Sprache, die sich jenseits gängiger=0D=0AJazzklischees bewegt.=0D=0A=0D=0AAZOLIA steht für kluge Arrangements, transparente Texturen, eine=0D=0Aunverkennbare Klanghandschrift und ein tiefes Gespür für Poesie.=0D=0AOhne Schlagzeug, dafür mit viel Raum für feinsinnige Interaktionen,=0D=0Aerzählt die Band von menschlichen Sehnsüchten, Zweifeln und=0D=0AMöglichkeiten. In ihren Vertonungen wird Rilkes Sprache neu hörbar=0D=0A– fragil, leuchtend und voller Resonanz.=0D=0A=0D=0ADer Schauspieler vom Mecklenburgischen Staatstheater, Jochen Fahr,=0D=0Aliest die Texte, bevor sie von der Band AZOLIA gespielt und gesungen=0D=0Awerden.=0D=0A=0D=0A„…Azolia ist ein fantastisches Ensemble, das sich in dem Ambiente=0D=0Aeines intimen Clubs in seiner Pracht entfaltet. Heute Abend war der=0D=0ARahmen perfekt und auch die Band!“=0D=0A=0D=0AGeert Ryssen, live review auf fullcircleblog=0D=0A=0D=0A =0D=0A=0D=0A„…Worte und Klänge ergänzen einander zwischen hell und dunkel,=0D=0Atanzend und schwingend, lustvoll, lustig und verheult, sanft….=0D=0Aglänzend…“=0D=0A=0D=0AKatja Grawinkel, Schönschrift=0D=0A=0D=0A =0D=0A=0D=0A„Der dunkel gefärbte Kammer-Jazz kommt ohne Schlagzeug aus, nicht=0D=0Aaber ohne Tassignons eindringliche, klare, den Bandsound prägende=0D=0AStimme, wie die soeben veröffentlichte dritte CD “Not About=0D=0AHeroes” erneut demonstriert.”=0D=0A=0D=0AAndreas Felber, Radio Ö1=0D=0A=0D=0A =0D=0A=0D=0A„…Alle Stücke dieser etwas ungewöhnlichen Besetzung sind gute=0D=0ASongs im besten Sinne!.…“=0D=0A=0D=0AStefan Pieper, Jazzthetik=0D=0A=0D=0A =0D=0A=0D=0ASOPHIE TASSIGNON: Gesang=0D=0A=0D=0ASUSANNE FOLK: Klarinette, Altsaxophon=0D=0A=0D=0ALOTHAR OHLMEIER: Bassklarinette, Sopransaxophon=0D=0A=0D=0AANDREAS WAELTI: Kontrabass=0D=0A=0D=0AZU GAST: Schauspieler Jochen Fahr=0D=0A=0D=0A =0D=0A=0D=0AWeitere Gäste des Abends:=0D=0A=0D=0AAFFÄRE BÉLA B.:=0D=0A=0D=0A‘Bela B.‘ im Ensemblenamen steht nicht für den Drummer der=0D=0AÄrzte, sondern für Béla Bartók, dessen Musik Inspirationsquelle=0D=0Afür das kammermusikalische Improvisations-Trio ist, das z. T. Themen=0D=0Ades Komponisten im Fluss seiner eigenen Musik adaptiert und=0D=0Aimprovisatorisch ausformt.=0D=0A=0D=0ANIKOLAUS NEUSER: Trompete=0D=0A=0D=0AERNST DEUKER: contrabass clarinet=0D=0A=0D=0AMARTINA WEIDNER: Viola=0D=0A=0D=0A_In Erinnerung an Theo Jörgensmann_=0D=0A=0D=0A =0D=0A=0D=0AWANN: Donnerstag, den 23.04.2026 um 18 Uhr=0D=0A=0D=0AWO: Foyer der Landesbibliothek Mecklenburg-Vorpommern,=0D=0AJohannes-Stelling-Str. 29, 19053 Schwerin=0D=0A=0D=0AWeitere Veranstaltungen der diesjährigen Schweriner Jazznacht finden=0D=0ASie hier [https://schweriner-jazznacht.de/].=0D=0A=0D=0ADie Landesbibliothek Mecklenburg-Vorpommern Günther Uecker geht auf=0D=0Adie 1779 gegründete Herzogliche Regierungsbibliothek zurück und=0D=0Averwahrt als kritische Infrastruktur bedeutende historische Bestände=0D=0Asowie einen großen Bestand an Werken aus und zu=0D=0AMecklenburg-Vorpommern. Das Land Mecklenburg-Vorpommern hat die=0D=0ALandesbibliothek in Schwerin gesetzlich damit beauftragt, die=0D=0Aaktuellen Druckwerke des Landes zu sammeln, zu erschließen und für=0D=0Adie Zukunft zu archivieren. Laut Landesgesetz und Verordnung über die=0D=0AAblieferung von Druckwerken sind alle Druckerzeugnisse, die in=0D=0AMecklenburg-Vorpommern verlegt werden, binnen eines Monats nach=0D=0AErscheinen kostenfrei an die Landesbibliothek abzuliefern. Titel über=0D=0AMecklenburg-Vorpommern, die außerhalb des Bundeslandes erscheinen,=0D=0Aerwirbt die Landesbibliothek. Die Landesbibliothek ist eine Abteilung=0D=0Ades Landesamtes für Kultur und Denkmalpflege. Der Altbau ihres=0D=0AStandortes an der Johannes-Stelling-Straße ist heute Teil des=0D=0ASchweriner UNESCO-Welterbe-Ensembles.=0D=0A
URL;VALUE=URI:https://hamburgwhl.infomaxnet.de/standard_widget_de/e-rilke-gedichte-vertont-zum-100-todestag-des-dichters-mit-dem-azolia-quartett-zu-gast-affae?eventDateId=30154850&widgetToken=22vcqFKw4GE.&
CLASS:PUBLIC
DTSTART:20260423T180000
DTSTAMP:20260422T103613
END:VEVENT
END:VCALENDAR