BEGIN:VCALENDAR
VERSION:2.0
PRODID:http://www.infomax-online.de/imxeventmanager/
METHOD:PUBLISH
BEGIN:VTIMEZONE
TZID:Europe/Berlin
TZURL:http://tzurl.org/zoneinfo-outlook/Europe/Berlin
X-LIC-LOCATION:Europe/Berlin
END:VTIMEZONE
BEGIN:VEVENT
UID:69e5bc6582e6f
LOCATION:Am Bahnhof 4, 23936 Grevesmühlen
SUMMARY;ENCODING=QUOTED-PRINTABLE:Rommé-Wettbewerb
DESCRIPTION;ENCODING=QUOTED-PRINTABLE:Der Heimatverein Grevesmühlen e.V. und der Behindertenverband e.V.=0D=0AGrevesmühlen laden zum Rommé-Wettbewerbin geselliger Runde ein.=0D=0A=0D=0AEINLADUNG ZUM GESELLIGEN ROMMÉ-TURNIER IN GREVESMÜHLEN AM 24. APRIL=0D=0A2026=0D=0A=0D=0ADie „Kulturbanausen“ des Heimatvereins Grevesmühlen e.V. und der=0D=0ABehindertenverband e.V. Grevesmühlen laden herzlich zum gemeinsamen=0D=0ARommé-Wettbewerb ein. Erleben Sie einen unterhaltsamen Nachmittag in=0D=0Ageselliger Runde und stellen Sie Ihr strategisches Geschick unter=0D=0ABeweis.=0D=0A=0D=0AVERANSTALTUNGSDETAILS:=0D=0A=0D=0A	* Datum: 24. April 2026=0D=0A	* Beginn: 14:00 Uhr=0D=0A	* Ort: Treffpunkt „Eck am Bahnhof“, Grevesmühlen=0D=0A	* Startgebühr: 12,00 € pro Person=0D=0A	* Verpflegung: Für Speisen und Getränke ist vor Ort gesorgt (gegen=0D=0ABezahlung).=0D=0A=0D=0AANMELDUNG:=0D=0A=0D=0A	* Die Teilnehmerzahl ist auf 40 Personen begrenzt. Wir bitten um=0D=0Averbindliche Anmeldung bis spätestens 17.04.2026 bei:=0D=0A	* Ansprechpartnerin: Frau Lange=0D=0A	* Telefon: 0151 / 25933227=0D=0A=0D=0A
URL;VALUE=URI:https://hamburgwhl.infomaxnet.de/standard_widget_de/e-romme-wettbewerb?eventDateId=30154826&widgetToken=22vcqFKw4GE.&
CLASS:PUBLIC
DTSTART:20260424T140000
DTSTAMP:20260420T074053
END:VEVENT
END:VCALENDAR