BEGIN:VCALENDAR
VERSION:2.0
PRODID:http://www.infomax-online.de/imxeventmanager/
METHOD:PUBLISH
BEGIN:VTIMEZONE
TZID:Europe/Berlin
TZURL:http://tzurl.org/zoneinfo-outlook/Europe/Berlin
X-LIC-LOCATION:Europe/Berlin
END:VTIMEZONE
BEGIN:VEVENT
UID:69e9e5f58975c
LOCATION:Am Markt , 21335 Lüneburg
SUMMARY;ENCODING=QUOTED-PRINTABLE:Klassischer Rundgang 14:00 Uhr
DESCRIPTION;ENCODING=QUOTED-PRINTABLE:Erkunden Sie die Salz- und Hansestadt Lüneburg bei einem Klassischen=0D=0ARundgang.=0D=0A=0D=0AWussten Sie, dass es über 1.400 Baudenkmäler in der Stadt gibt?=0D=0ALüneburgs historisch gewachsener Reichtum hat seine Spuren=0D=0Ahinterlassen und prägt das Stadtbild bis heute. Dieser Rundgang zeigt=0D=0AIhnen besondere Sehenswürdigkeiten und vermittelt einen Überblick=0D=0Aüber die Geschichte und Entwicklung der Hansestadt. Lernen Sie die=0D=0Awichtigsten Schauplätze, wie das historische Rathaus, den alten Hafen=0D=0Asamt Kran und den prachtvollen Platz „Am Sande“ kennen und tauchen=0D=0ASie ein in die schönsten Ecken Lüneburgs!=0D=0A =0D=0A=0D=0A =0D=0A
URL;VALUE=URI:https://hamburgwhl.infomaxnet.de/standard_widget_de/e-klassischer-rundgang-1400-uhr?eventDateId=30153695&widgetToken=22vcqFKw4GE.&
CLASS:PUBLIC
DTSTART:20260424T140000
DTSTAMP:20260423T112717
END:VEVENT
END:VCALENDAR