BEGIN:VCALENDAR
VERSION:2.0
PRODID:http://www.infomax-online.de/imxeventmanager/
METHOD:PUBLISH
BEGIN:VTIMEZONE
TZID:Europe/Berlin
TZURL:http://tzurl.org/zoneinfo-outlook/Europe/Berlin
X-LIC-LOCATION:Europe/Berlin
END:VTIMEZONE
BEGIN:VEVENT
UID:69e8100e0077d
LOCATION:Johannes-Brahms-Platz , 20355 Hamburg
SUMMARY;ENCODING=QUOTED-PRINTABLE:Kammerchorfestival »Nordklang«
DESCRIPTION;ENCODING=QUOTED-PRINTABLE:Sechs Hamburger Kammerchöre und Vokalensembles gestalten gemeinsam=0D=0Aden Auftakt des dritten »Nordklang«-Kammerchorfestivals. Ein=0D=0Aeindrucksvolles Programm von Renaissance bis Gegenwart, von Klassik=0D=0Abis Pop, von geistlich bis weltlich spiegelt die Vielfalt der=0D=0AHamburger Kammerchorszene wider und lässt die Intention des=0D=0AKammerchorfestivals deutlich werden: Austausch, Begegnung und=0D=0Agegenseitiges Kennenlernen, Impulse und Motivation für die=0D=0Akünstlerische Arbeit der Kammerchorszene.=0D=0A=0D=0ABESETZUNG=0D=0A=0D=0ANEUER KAMMERCHOR HAMBURG Kammerchor=0D=0A=0D=0ALUKAS MARHENKE Leitung=0D=0A=0D=0AMÄDCHENCHOR HAMBURG Chor=0D=0A=0D=0AGESA WERHAHN Leitung=0D=0A=0D=0ACANTALOOP Chor=0D=0A=0D=0ACHRISTOPH GERL Leitung=0D=0A=0D=0AVOKALENSEMBLE CONSONANZ Vokalensemble=0D=0A=0D=0ANORBERT HOPPERMANN Leitung=0D=0A=0D=0ALANDESJUGENDCHOR HAMBURG Chor=0D=0A=0D=0ACORNELIUS TRANTOW Leitung=0D=0A=0D=0ANDR VOKALENSEMBLE Chor=0D=0A=0D=0AKLAAS STOK Leitung=0D=0A=0D=0APROGRAMM=0D=0A=0D=0AWerke von Johann Sebastian Bach, Felix Mendelssohn-Bartholdy, Giovanni=0D=0AGabrieli, Ēriks Ešenvalds u.a.=0D=0A=0D=0A =0D=0A=0D=0ADas Konzert findet mit einer Pause statt.=0D=0A=0D=0A =0D=0A
URL;VALUE=URI:https://hamburgwhl.infomaxnet.de/standard_widget_de/e-kammerchorfestival-nordklang?eventDateId=30153087&widgetToken=22vcqFKw4GE.&
CLASS:PUBLIC
DTSTART:20260424T200000
DTSTAMP:20260422T020222
END:VEVENT
END:VCALENDAR