BEGIN:VCALENDAR
VERSION:2.0
PRODID:http://www.infomax-online.de/imxeventmanager/
METHOD:PUBLISH
BEGIN:VTIMEZONE
TZID:Europe/Berlin
TZURL:http://tzurl.org/zoneinfo-outlook/Europe/Berlin
X-LIC-LOCATION:Europe/Berlin
END:VTIMEZONE
BEGIN:VEVENT
UID:69ea84e3016b7
LOCATION:Süderpiep 9, 25718 Friedrichskoog
SUMMARY;ENCODING=QUOTED-PRINTABLE:Führung auf dem Trischendamm: Salzwiese, Vögel und Mee(h)r
DESCRIPTION;ENCODING=QUOTED-PRINTABLE:Beobachten Sie Watvögel, entdecken Sie seltene Pflanzen in der=0D=0ASalzwiese und genießen Sie die beeindruckende Aussicht vom=0D=0ATrischendamm und erleben einen Rundumblick, der die Schönheit der=0D=0ARegion Friedrichskoog in Szene setzt.=0D=0A=0D=0AWas macht den Nationalpark und das UNESCO-Weltnaturerbe Wattenmeer so=0D=0Aeinzigartig? Vom Trischendamm aus haben Sie einen beeindruckenden=0D=0ABlick auf die verschiedenen Lebensräume und Bewohner der Küste.=0D=0ABeobachten Sie die typischen Watvögel bei ihrer Nahrungssuche und=0D=0Aentdecken Sie die besonderen Pflanzen der Salzwiese. Genießen Sie den=0D=0ARundumblick: Schiffe oder eine Insel am Horizont, Vogelstimmen in der=0D=0ALuft und zur Linken die Salzwiesen, zur Rechten das Meer. Besonders=0D=0Afür Friedrichskoog-Neulinge ist diese Führung der perfekte Einstieg,=0D=0Aum die Natur und die Umgebung kennenzulernen!=0D=0A
URL;VALUE=URI:https://hamburgwhl.infomaxnet.de/standard_widget_de/e-auf-dem-trischendamm-durch-das-weltnaturerbe-wattenmeer-2?eventDateId=30152050&widgetToken=22vcqFKw4GE.&
CLASS:PUBLIC
DTSTART:20260425T163000
DTSTAMP:20260423T224523
END:VEVENT
END:VCALENDAR