BEGIN:VCALENDAR
VERSION:2.0
PRODID:http://www.infomax-online.de/imxeventmanager/
METHOD:PUBLISH
BEGIN:VTIMEZONE
TZID:Europe/Berlin
TZURL:http://tzurl.org/zoneinfo-outlook/Europe/Berlin
X-LIC-LOCATION:Europe/Berlin
END:VTIMEZONE
BEGIN:VEVENT
UID:69e8faae6f0ea
LOCATION:Schulterblatt 73, 20357 Hamburg
SUMMARY;ENCODING=QUOTED-PRINTABLE:Kultur & Kampf: Berufsverbote und rechte Kulturpolitik
DESCRIPTION;ENCODING=QUOTED-PRINTABLE:2018 beschloss die Hamburger Bürgerschaft die Praxis der=0D=0ABerufsverbote durch den „Radikalenerlass“ von 1972 zu=0D=0A„bedauern“. Doch das bedauern selbst ist nur von kurzer Dauer: Im=0D=0AOktober 2025 beschloss der Hamburger Senat die Einführung einer=0D=0ARegelanfrage beim Verfassungsschutz. Neueinstellungen in den=0D=0Aöffentlichen Dienst sollen mittels einer Verfassungsschutzanfrage auf=0D=0A„verfassungsfeindliche Aktivitäten“ überprüft werden.=0D=0A=0D=0ADie fünfte Ausgabe der Reihe Kultur & Kampf beschäftigt sich mit den=0D=0ABerufsverboten damals, sowie der Androhung von Berufsverboten heute.=0D=0ADoch nicht nur im öffentlichen Dienst herrscht Einschüchterung. Auch=0D=0Ain der Kultur sehen sich immer mehr Kunstschaffende mit Absagen,=0D=0AAusladungen und Einschüchterung konfrontiert. Im Gespräch mit Arian=0D=0ANuri vom ‚Hamburger Bündnis gegen Berufsverbote‘ sowie Jonas=0D=0ARahm, dem Vorsitzenden von Ver.di Kunst und Design werden die beiden=0D=0ASzenarien in einen Kontext gesetzt, um zu schauen, wie sich der=0D=0AWiderstand gegen regressive Politik organisieren lässt.=0D=0A=0D=0AGerahmt wird der Talk von Musik durch Asal Karimi (Geige) und David=0D=0AMohr (Gitarre und Gesang).=0D=0A=0D=0AEintritt gegen Spende=0D=0AEinlass ab 19:00 Uhr | Start 19:30 Uhr=0D=0A=0D=0AFotocredits: Gabriela Valdespino, Privat, Martin Lamberty=0D=0A
URL;VALUE=URI:https://hamburgwhl.infomaxnet.de/standard_widget_de/e-kultur-amp-kampf-mit-olivier-david?eventDateId=30151675&widgetToken=22vcqFKw4GE.&
CLASS:PUBLIC
DTSTART:20260422T193000
DTSTAMP:20260422T184326
END:VEVENT
END:VCALENDAR