BEGIN:VCALENDAR
VERSION:2.0
PRODID:http://www.infomax-online.de/imxeventmanager/
METHOD:PUBLISH
BEGIN:VTIMEZONE
TZID:Europe/Berlin
TZURL:http://tzurl.org/zoneinfo-outlook/Europe/Berlin
X-LIC-LOCATION:Europe/Berlin
END:VTIMEZONE
BEGIN:VEVENT
UID:69e8278149ac1
LOCATION:Am Sande , 21682 Stade
SUMMARY;ENCODING=QUOTED-PRINTABLE:Klang-Zeit mit Nadine Grubert
DESCRIPTION;ENCODING=QUOTED-PRINTABLE:Workshop=0D=0A=0D=0AMusik kennt kein Alter=0D=0Ader Ankerplatz lädt zu musikalischen Dienstagen ein, geleitet von=0D=0A"Nadines Herzryhtmus".=0D=0AJeder mit Interesse darf mitmachen und sich ausprobieren.=0D=0AOb Anfänger oder Profi, ob jung oder alt!=0D=0AEs wird improvisiert und frei gespielt, dabei dürfen Musikinstrumente=0D=0Amitgebracht oder soagr ausgeliehen werden. Es geht darum, dass=0D=0ABegegnung und Freude entsteht. Und was ganz wichtig ist, es gibt keine=0D=0Afalschen Töne!=0D=0APreis: Kostenlos (Spenden sind willkommen)=0D=0A =0D=0A
URL;VALUE=URI:https://hamburgwhl.infomaxnet.de/standard_widget_de/e-klang-zeit?eventDateId=30146672&widgetToken=22vcqFKw4GE.&
CLASS:PUBLIC
DTSTART:20260422T153000
DTSTAMP:20260422T034225
END:VEVENT
END:VCALENDAR