BEGIN:VCALENDAR
VERSION:2.0
PRODID:http://www.infomax-online.de/imxeventmanager/
METHOD:PUBLISH
BEGIN:VTIMEZONE
TZID:Europe/Berlin
TZURL:http://tzurl.org/zoneinfo-outlook/Europe/Berlin
X-LIC-LOCATION:Europe/Berlin
END:VTIMEZONE
BEGIN:VEVENT
UID:69ea59495afb3
LOCATION:Willy-Brandt-Allee 10, 23554 Lübeck
SUMMARY;ENCODING=QUOTED-PRINTABLE:Dachbegrünung - Tipps für Eigentümer
DESCRIPTION;ENCODING=QUOTED-PRINTABLE:Die Veranstaltung inspiriert, Dächer in grüne Oasen zu verwandeln.=0D=0A=0D=0ADie Klimaleitstelle der Hansestadt Lübeck lädt im Zuge der=0D=0AGründachförderung zum Vortrag "Dachbegrünung - Tipps für=0D=0AEigentümer" ein. Interessierte erfahren hier, wie begrünte Dächer=0D=0Aeinen wichtigen Beitrag zu Klimaschutz und nachhaltiger=0D=0AStadtentwicklung leisten können. Der Referent Dr. Michael=0D=0AMarrett-Foßen, Geschäftsführer des Fachverband Garten-, Landschaft-=0D=0Aund Sportplatzbau Nord, erläutert anschaulich die ökologischen,=0D=0Aökonomischen und gestalterischen Vorteile von Dachbegrünungen - von=0D=0Averbesserter Luftqualität, Wasserrückhalt über Hitzeschutz bis hin=0D=0Azur Förderung der Biodiversität. Neben praxisnahen Beispielen werden=0D=0Aauch technische Grundlagen sowie Solargründächer vorgestellt. Die=0D=0AVeranstaltung richtet sich an Hausbesitzer:innen, Planende und alle,=0D=0Adie sich für innovative Lösungen im urbanen Raum interessieren. Im=0D=0AAnschluss besteht die Möglichkeit das Solargründach der MuK zu=0D=0Abesichtigen.=0D=0A
URL;VALUE=URI:https://hamburgwhl.infomaxnet.de/standard_widget_de/e-dachbegruenung-tipps-fuer-eigentuemer?eventDateId=30145482&widgetToken=22vcqFKw4GE.&
CLASS:PUBLIC
DTSTART:20260425T163000
DTSTAMP:20260423T193921
END:VEVENT
END:VCALENDAR