BEGIN:VCALENDAR
VERSION:2.0
PRODID:http://www.infomax-online.de/imxeventmanager/
METHOD:PUBLISH
BEGIN:VTIMEZONE
TZID:Europe/Berlin
TZURL:http://tzurl.org/zoneinfo-outlook/Europe/Berlin
X-LIC-LOCATION:Europe/Berlin
END:VTIMEZONE
BEGIN:VEVENT
UID:69eca060e8b80
LOCATION:Platz der Deutschen Einheit 1, 20457 Hamburg
SUMMARY;ENCODING=QUOTED-PRINTABLE:Lydie Auvray Trio
DESCRIPTION;ENCODING=QUOTED-PRINTABLE:Nach dem ersten Gastspiel 2019 in der Elphi nun also zum letzten Mal:=0D=0AEin »Best-Of«, das sich niemand entgehen lassen sollte. Auf=0D=0AAbschiedstour in dieser Besetzung kann das Hamburger Publikum noch=0D=0Aeinmal Zeuge von Lydie Auvrays beeindruckender Vielseitigkeit werden=0D=0A– von schwingender Musette über feurige Tangos zu ihren ganz=0D=0Apersönlichen Chansons; von weltmusikalischen und jazzigen Klängen zu=0D=0Aden filmmusikartigen Werken des fantastischen Trios, die im Kopf einen=0D=0Awahren Bilderrausch auslösen, gefühlvoll und dicht.=0D=0A=0D=0A =0D=0A=0D=0AViele dieser Stücke haben für ihre Fans längst Kultstatus. »Ich=0D=0Amöchte auf dieser letzten Tournee mit unserem Trio Lieblingsstücke=0D=0Avon mir, meinen Musikern und dem Publikum spielen, aus all meinen=0D=0ASchaffensphasen. Das ist wie ein musikalischer Blick in und auf mein=0D=0Aganzes Leben.« Lydie Auvray wird begleitet von ihren langjährigen=0D=0AKomplizen und Wegbegleitern, den hervorragenden Musikern Markus=0D=0ATiedemann und Eckes Malz.=0D=0A=0D=0ABESETZUNG=0D=0A=0D=0ALYDIE AUVRAY TRIO Trio=0D=0A=0D=0ALYDIE AUVRAY Akkordeon und Gesang=0D=0A=0D=0AECKES MALZ Klavier und Percussion=0D=0A=0D=0AMARKUS TIEDEMANN Gitarren, Ukulele, Bouzouki und Bass=0D=0A
URL;VALUE=URI:https://hamburgwhl.infomaxnet.de/standard_widget_de/e-lydie-auvray-trio?eventDateId=30144919&widgetToken=22vcqFKw4GE.&
CLASS:PUBLIC
DTSTART:20260426T193000
DTSTAMP:20260425T130712
END:VEVENT
END:VCALENDAR