BEGIN:VCALENDAR
VERSION:2.0
PRODID:http://www.infomax-online.de/imxeventmanager/
METHOD:PUBLISH
BEGIN:VTIMEZONE
TZID:Europe/Berlin
TZURL:http://tzurl.org/zoneinfo-outlook/Europe/Berlin
X-LIC-LOCATION:Europe/Berlin
END:VTIMEZONE
BEGIN:VEVENT
UID:69e62e10edeef
LOCATION:Hüxstraße 118-120, 23552 Lübeck
SUMMARY;ENCODING=QUOTED-PRINTABLE:Stadt von Morgen: Prinzipien des Städtebaus - Resiliente,=0D=0Aklimagerechte und solidarische Stadtentwicklung
DESCRIPTION;ENCODING=QUOTED-PRINTABLE:Wie gestalten wir Städte der Zukunft? Erfahren Sie, wie=0D=0Aklimagerechter Städtebau, resiliente Strukturen und solidarische=0D=0ALebensräume unsere urbanen Zentren transformieren. Vortrag mit Prof.=0D=0ADr. Wolfgang Sonne (TU Dortmund) - inkl. Fortbildungsanerkennung.=0D=0A=0D=0ADie Vortragsreihe "Stadt von Morgen" widmet sich den drängenden=0D=0AFragen der urbanen Zukunft: Wie können wir Stadtzentren=0D=0Atransformieren, obsolete Strukturen nachhaltig nutzen und=0D=0Aklimagerechte, solidarische Städte gestalten? Im Fokus stehen=0D=0Aresiliente, gerechte und lebenswerte Lebensräume - von der Umnutzung=0D=0Aalter Gebäude bis zu innovativen Planungsprinzipien.=0D=0ASchwerpunkte des Vortrags:=0D=0A=0D=0ATransformation der Stadtzentren: Wie lassen sich veraltete Strukturen=0D=0Azukunftsfähig gestalten?=0D=0A=0D=0AKlimagerechtigkeit & Solidarität: =0D=0AWelche Konzepte machen Städte lebenswert für alle?=0D=0A=0D=0AResilienz im Städtebau: =0D=0AStrategien für nachhaltige und anpassungsfähige urbane Räume=0D=0A=0D=0AInterdisziplinärer Dialog: =0D=0AAustausch zwischen Architektur, Stadtplanung und Gesellschaft=0D=0ADer Vortrag richtet sich an Architekt:innen, Stadtplaner:innen,=0D=0AStudierende und alle Interessierten, die sich für die Zukunft unserer=0D=0AStädte engagieren. In Zusammenarbeit mit dem ArchitekturForum Lübeck=0D=0Ae.V. - anerkannte Fortbildung der Architekten- und Ingenieurkammer=0D=0ASchleswig-Holstein.=0D=0A=0D=0A
URL;VALUE=URI:https://hamburgwhl.infomaxnet.de/standard_widget_de/e-stadt-von-morgen-prinzipien-des-staedtebaus-resiliente-klimagerechte-und-solidarische-stad?eventDateId=30143610&widgetToken=22vcqFKw4GE.&
CLASS:PUBLIC
DTSTART:20260421T193000
DTSTAMP:20260420T154552
END:VEVENT
END:VCALENDAR