BEGIN:VCALENDAR
VERSION:2.0
PRODID:http://www.infomax-online.de/imxeventmanager/
METHOD:PUBLISH
BEGIN:VTIMEZONE
TZID:Europe/Berlin
TZURL:http://tzurl.org/zoneinfo-outlook/Europe/Berlin
X-LIC-LOCATION:Europe/Berlin
END:VTIMEZONE
BEGIN:VEVENT
UID:69e89f82c6a92
LOCATION:Klöresgang 3, 19053 Schwerin
SUMMARY;ENCODING=QUOTED-PRINTABLE:Bücherrausch
DESCRIPTION;ENCODING=QUOTED-PRINTABLE:Neuerscheinungen ganz frisch im Gepäck=0D=0A=0D=0AInspiriert vom katalanischen Brauch, zum Namenstag des Heiligen St.=0D=0AGeorg, Rosen und Bücher zu verschenken, erklärte die UNESCO 1995 den=0D=0A23. April zum „Welttag des Buches“. Bibliothekarinnen der=0D=0AStadtbibliothek Schwerin laden an diesem besonderen Tag mit dem=0D=0A„Bücherrausch“ Literaturfans zu einem kurzweiligen Vormittag=0D=0Avoller Bücher und Geschichten ein - von unterhaltsamen Romanen über=0D=0Ainteressante Sachbücher bis hin zu überraschenden Geheimtipps.=0D=0A=0D=0ADer Eintritt ist frei.=0D=0A=0D=0A =0D=0A=0D=0AAnmeldung unter Tel. 0385 5901922 oder per E-Mail an swurm@schwerin.de=0D=0A
URL;VALUE=URI:https://hamburgwhl.infomaxnet.de/standard_widget_de/e-buecherrausch?eventDateId=30143535&widgetToken=22vcqFKw4GE.&
CLASS:PUBLIC
DTSTART:20260423T100000
DTSTAMP:20260422T121426
END:VEVENT
END:VCALENDAR