BEGIN:VCALENDAR
VERSION:2.0
PRODID:http://www.infomax-online.de/imxeventmanager/
METHOD:PUBLISH
BEGIN:VTIMEZONE
TZID:Europe/Berlin
TZURL:http://tzurl.org/zoneinfo-outlook/Europe/Berlin
X-LIC-LOCATION:Europe/Berlin
END:VTIMEZONE
BEGIN:VEVENT
UID:69e8e52a99728
LOCATION:Lückecker Straße 74, 23942 Dassow
SUMMARY;ENCODING=QUOTED-PRINTABLE:Dünen, Sand und wilde Tiere
DESCRIPTION;ENCODING=QUOTED-PRINTABLE:Die Küstenrangerin Lena Hohls berichtet aus dem europäischen=0D=0ASchutzgebiet an der Küste des Klützer Winkels=0D=0A=0D=0AIn Kooperation mit der 'Naturstation Fischerkaten' berichtet die=0D=0AKüstenrangerin Lena Hohls mit einem Foto - Vortrag über 'Dünen,=0D=0ASand und wilde Tiere' im Schutzgebiet an der Küste des Klützer=0D=0AWinkels.=0D=0A
URL;VALUE=URI:https://hamburgwhl.infomaxnet.de/standard_widget_de/e-duenen-sand-und-wilde-tiere?eventDateId=30143532&widgetToken=22vcqFKw4GE.&
CLASS:PUBLIC
DTSTART:20260424T180000
DTSTAMP:20260422T171138
END:VEVENT
END:VCALENDAR