BEGIN:VCALENDAR
VERSION:2.0
PRODID:http://www.infomax-online.de/imxeventmanager/
METHOD:PUBLISH
BEGIN:VTIMEZONE
TZID:Europe/Berlin
TZURL:http://tzurl.org/zoneinfo-outlook/Europe/Berlin
X-LIC-LOCATION:Europe/Berlin
END:VTIMEZONE
BEGIN:VEVENT
UID:69e9f2d4961ea
LOCATION:Weidestraße 122a, 22083 Hamburg
SUMMARY;ENCODING=QUOTED-PRINTABLE:Tage der offenen Tür
DESCRIPTION;ENCODING=QUOTED-PRINTABLE:Besuche unsere PTA-Schule in Hamburg/AlsterCity an den nächsten Tagen=0D=0Ader offenen Tür! Das erwartet Dich:=0D=0A=0D=0A- Lehrkräfte, die Dich gerne zur PTA-Ausbildung beraten und all Deine=0D=0AFragen beantworten=0D=0A=0D=0A- Erfahrungen aus erster Hand von Schülerinnen und Schülern=0D=0A=0D=0A- Führungen durch Schulgebäude & Lehrräume=0D=0A=0D=0A- Aktionen zum Mitmachen und Erleben im Labor=0D=0A=0D=0A- Details zur Schuldgeldfreiheit in Hamburg=0D=0A=0D=0A- Infos zum Studium Pharmamanagement und Pharmaproduktion an der=0D=0ADIPLOMA Hochschule (neben oder nach der Ausbildung)=0D=0A=0D=0ADie Anmeldung zur 2,5-jährigen PTA-Ausbildung ist vor Ort möglich.=0D=0ASie beginnt jährlich im September, Voraussetzung ist ein Mittlerer=0D=0AAbschluss (MSA).=0D=0A=0D=0APTAs sind die Fachkräfte in der Apotheke. Dort beraten sie zu=0D=0AGesundheitsthemen, verkaufen Arzneien und stellen selbst welche her.=0D=0AAuch in Unternehmen der Pharmazie-, Chemie- und Kosmetikbranche werden=0D=0Asie gesucht.=0D=0A
URL;VALUE=URI:https://hamburgwhl.infomaxnet.de/standard_widget_de/e-tage-der-offenen-tuer?eventDateId=30143138&widgetToken=22vcqFKw4GE.&
CLASS:PUBLIC
DTSTART:20260417T140000
DTSTAMP:20260423T122212
END:VEVENT
END:VCALENDAR