BEGIN:VCALENDAR
VERSION:2.0
PRODID:http://www.infomax-online.de/imxeventmanager/
METHOD:PUBLISH
BEGIN:VTIMEZONE
TZID:Europe/Berlin
TZURL:http://tzurl.org/zoneinfo-outlook/Europe/Berlin
X-LIC-LOCATION:Europe/Berlin
END:VTIMEZONE
BEGIN:VEVENT
UID:69e9f2932310b
LOCATION:Schanzenstraße 75-77, 20357 Hamburg
SUMMARY;ENCODING=QUOTED-PRINTABLE:Ukulele für Anfänger:innen mit Vorkenntnissen
DESCRIPTION;ENCODING=QUOTED-PRINTABLE:Sie haben bereits erste Erfahrungen mit der Ukulele gesammelt und=0D=0Amöchten Ihr Spiel weiter ausbauen? In diesem Aufbauworkshop vertiefen=0D=0Awir die Grundlagen aus dem Anfänger:innen-Kurs und erweitern unser=0D=0ARepertoire. Sie lernen neue Akkorde, Schlagmuster und einfache=0D=0AZupftechniken, um Lieder abwechslungsreicher zu gestalten. Im=0D=0AVordergrund steht das praktische Musizieren in der Gruppe, damit Sie=0D=0Amehr Sicherheit und Spielfreude gewinnen. Notenkenntnisse sind nicht=0D=0Aerforderlich. Bringen Sie Ihre Ukulele mit - und lassen Sie uns=0D=0Agemeinsam musizieren!=0D=0A
URL;VALUE=URI:https://hamburgwhl.infomaxnet.de/standard_widget_de/e-ukulele-fuer-anfaengerinnen-mit-vorkenntnissen-2?eventDateId=30140754&widgetToken=22vcqFKw4GE.&
CLASS:PUBLIC
DTSTART:20260417T100000
DTSTAMP:20260423T122107
END:VEVENT
END:VCALENDAR