BEGIN:VCALENDAR
VERSION:2.0
PRODID:http://www.infomax-online.de/imxeventmanager/
METHOD:PUBLISH
BEGIN:VTIMEZONE
TZID:Europe/Berlin
TZURL:http://tzurl.org/zoneinfo-outlook/Europe/Berlin
X-LIC-LOCATION:Europe/Berlin
END:VTIMEZONE
BEGIN:VEVENT
UID:69e9e889007ad
LOCATION:Überseeboulevard , 20457 Hamburg
SUMMARY;ENCODING=QUOTED-PRINTABLE:33. OPEN ART-Ausstellung im Überseequartier "KANADA- VON NATUR AUS=0D=0AVIELFÄLTIG"
DESCRIPTION;ENCODING=QUOTED-PRINTABLE:Sehnsuchtsland Kanada: Die 33. OPEN ART-Ausstellung im=0D=0AÜberseequartier richtet ab dem 23. April 2026 unter dem Titel=0D=0A„Kanada – Von Natur aus vielfältig“ den Blick auf das=0D=0Azweitgrößte Land der Erde. Nach der Ausstellung über Florida stellt=0D=0Adas Überseequartier und der Reiseveranstalter CRD Touristik und=0D=0ADestination Canada 50 großformatige Aufnahmen von den zahlreichen=0D=0AReisen des Hamburger Fotografen-Paares Krim Grüttner und Reinhard=0D=0APrinzmeier aus: Insgesamt mehr als neun Monate waren sie in Kanada mit=0D=0Aihrem Camper Van unterwegs und zeigen eine Vielfalt von dem, was das=0D=0ALand so anziehend macht. Sie nehmen die Betrachter mit in grandiose=0D=0ALandschaften, zu wilden Tieren und zur indigenen Kultur der First=0D=0ANations.=0D=0A=0D=0ABis zum 20. September 2026 sind die Bilder und Geschichten rund um die=0D=0AUhr kostenlos auf dem Überseeboulevard zugänglich.=0D=0A=0D=0ANach Ausstellungsende wird jede dieser 50 Originalfototafeln an=0D=0ASpender verschenkt, die einen angemessenen Betrag an den=0D=0Agemeinnützigen Verein SPRACHBRÜCKE-HAMBURG e.V. gespendet haben.=0D=0ADetails dazu finden sich ab Ausstellungsbeginn unter=0D=0Ahttps://www.herumkommer.de/kanada/=0D=0A
URL;VALUE=URI:https://hamburgwhl.infomaxnet.de/standard_widget_de/e-33-open-art-ausstellung-im-ueberseequartier-kanada-von-natur-aus-vielfaeltig?eventDateId=30140435&widgetToken=22vcqFKw4GE.&
CLASS:PUBLIC
DTSTART:20260423T070000
DTSTAMP:20260423T113817
END:VEVENT
END:VCALENDAR