BEGIN:VCALENDAR
VERSION:2.0
PRODID:http://www.infomax-online.de/imxeventmanager/
METHOD:PUBLISH
BEGIN:VTIMEZONE
TZID:Europe/Berlin
TZURL:http://tzurl.org/zoneinfo-outlook/Europe/Berlin
X-LIC-LOCATION:Europe/Berlin
END:VTIMEZONE
BEGIN:VEVENT
UID:69ead20526c5f
LOCATION:Museumstraße 23, 22765 Hamburg
SUMMARY;ENCODING=QUOTED-PRINTABLE:FRISCHE FISCHE | "Gleich ungleich gesellt sich gern" mit den=0D=0AElbautor*innen
DESCRIPTION;ENCODING=QUOTED-PRINTABLE:Familien-Veranstaltung=0D=0A=0D=0AGleich ungleich gesellt sich gern=0D=0A=0D=0ABuchpremierenlesung mit Yvonne Hergane, Maren von Klitzing und Barbara=0D=0APeters=0D=0A=0D=0AWas verbindet uns – und was trennt uns? Wer bist du und wer bin ich?=0D=0ADie Geschichten für und über Kinder in diesem Buch sind so normal=0D=0Aund so besonders wie wir alle.=0D=0A=0D=0AMia, zum Beispiel, ist neu in ihrer Klasse. Das ist nicht leicht für=0D=0Asie, doch zum Glück gibt es ja Neuling - das Wesen mit den sieben=0D=0AAugen, den zwölf Armen und den fünfzehn Füßen, der ihr hilft.=0D=0A=0D=0AAbima und ihre Schulfreundinnen und -freunde merken, dass zum=0D=0AZusammenhalt auch gehört, aufeinander aufzupassen. Und Lene ist auf=0D=0Ader Suche nach einem echten Helden oder einer echten Heldin, über die=0D=0Asie ein Gedicht schreiben kann.=0D=0A=0D=0ADie Elbautorinnen Maren von Klitzing, Barbara Peters und Yvonne=0D=0AHergane lesen drei der vierzehn „Geschichten mitten aus dem Leben“=0D=0Aund singen mit euch den „Zusammen-Song“. Wer mag, bastelt und malt=0D=0Aim Anschluss an die Lesung noch eine regenbogenbunte Kette aus lauter=0D=0AKinderhänden.=0D=0A=0D=0Aab 6 Jahren - ca. 60 Minuten=0D=0A=0D=0AFür die Social Media-Kanäle des Kinderbuchhauses werden=0D=0AFotoaufnahmen von Personengruppen gemacht.=0D=0A
URL;VALUE=URI:https://hamburgwhl.infomaxnet.de/standard_widget_de/e-frische-fische-gleich-ungleich-gesellt-sich-gern-mit-den-elbautorinnen?eventDateId=30139651&widgetToken=22vcqFKw4GE.&
CLASS:PUBLIC
DTSTART:20260424T160000
DTSTAMP:20260424T041429
END:VEVENT
END:VCALENDAR