BEGIN:VCALENDAR
VERSION:2.0
PRODID:http://www.infomax-online.de/imxeventmanager/
METHOD:PUBLISH
BEGIN:VTIMEZONE
TZID:Europe/Berlin
TZURL:http://tzurl.org/zoneinfo-outlook/Europe/Berlin
X-LIC-LOCATION:Europe/Berlin
END:VTIMEZONE
BEGIN:VEVENT
UID:69e9af62a2e1c
LOCATION:Fahrenkamp 27, 20535 Hamburg
SUMMARY;ENCODING=QUOTED-PRINTABLE:*Digitalsprechstunde*
DESCRIPTION;ENCODING=QUOTED-PRINTABLE:Sie haben Fragen rund um Smartphone, Tablet oder Computer?=0D=0A=0D=0AIn unserer Digitalsprechstunde nimmt sich Herr Blat Zeit für Ihre=0D=0Aindividuellen Anliegen und unterstützt Sie Schritt für Schritt im=0D=0AUmgang mit digitalen Geräten.=0D=0A=0D=0AGanz gleich, ob es um das Schreiben von Nachrichten, das Versenden von=0D=0AFotos oder den sicheren Umgang im Internet geht – wir helfen Ihnen=0D=0Agerne weiter.=0D=0A=0D=0AKommen Sie vorbei und entdecken Sie die digitale Welt in angenehmer=0D=0Aund verständlicher Atmosphäre!=0D=0A=0D=0AKursleiter: Herr Blat=0D=0A=0D=0ABitte Telefonische Voranmeldung!=0D=0A=0D=0AIn der Zeit von: 10:00 bis 13:00 Uhr=0D=0A=0D=0ATel.: 040 / 21 59 08=0D=0A=0D=0AWir freuen uns auf Sie!=0D=0A
URL;VALUE=URI:https://hamburgwhl.infomaxnet.de/standard_widget_de/e-digitalsprechstunde?eventDateId=30139622&widgetToken=22vcqFKw4GE.&
CLASS:PUBLIC
DTSTART:20260423T100000
DTSTAMP:20260423T073426
END:VEVENT
END:VCALENDAR