BEGIN:VCALENDAR
VERSION:2.0
PRODID:http://www.infomax-online.de/imxeventmanager/
METHOD:PUBLISH
BEGIN:VTIMEZONE
TZID:Europe/Berlin
TZURL:http://tzurl.org/zoneinfo-outlook/Europe/Berlin
X-LIC-LOCATION:Europe/Berlin
END:VTIMEZONE
BEGIN:VEVENT
UID:69e9e66d08d38
LOCATION:Am Markt , 21335 Lüneburg
SUMMARY;ENCODING=QUOTED-PRINTABLE:Lüneburger Henkerführung
DESCRIPTION;ENCODING=QUOTED-PRINTABLE:Das wird ein Mordsspaß: Begleiten Sie Meister Hans, den Scharfrichter=0D=0Avon Lüneburg bei seinen beruflichen Besorgungen in den malerischen=0D=0AWinkeln der Hansestadt.=0D=0A=0D=0AErfahren Sie Interessantes und Kurioses über das Rechtssystem des=0D=0AMittelalters. Und ab dafür!=0D=0A
URL;VALUE=URI:https://hamburgwhl.infomaxnet.de/standard_widget_de/e-lueneburger-henkerfuehrung-2?eventDateId=30138800&widgetToken=22vcqFKw4GE.&
CLASS:PUBLIC
DTSTART:20260424T190000
DTSTAMP:20260423T112917
END:VEVENT
END:VCALENDAR