BEGIN:VCALENDAR
VERSION:2.0
PRODID:http://www.infomax-online.de/imxeventmanager/
METHOD:PUBLISH
BEGIN:VTIMEZONE
TZID:Europe/Berlin
TZURL:http://tzurl.org/zoneinfo-outlook/Europe/Berlin
X-LIC-LOCATION:Europe/Berlin
END:VTIMEZONE
BEGIN:VEVENT
UID:69e8e90d38618
LOCATION:Willy-Brandt-Straße 60, 20459 Hamburg
SUMMARY;ENCODING=QUOTED-PRINTABLE:Unsichtbare Geschichte sichtbar machen
DESCRIPTION;ENCODING=QUOTED-PRINTABLE:Welche erinnerungskulturell bedeutsamen Orte prägen unsere=0D=0Aöffentliche Wahrnehmung – und welche nicht? Begleitend zur=0D=0Aaktuellen Sonderausstellung „Auschwitz, Fußnoten“ beschäftigt=0D=0Asich dieser Abend mit der Debatte um die Sichtbarkeit von=0D=0Ageschichtsträchtigen Orten in Hamburg. Akteur:innen verschiedener=0D=0Abekannter und weniger bekannter Hamburger Orte diskutieren über die=0D=0AHerausforderungen für Geschichtsschreibung und Gedenkkultur sowie=0D=0Aüber zivilgesellschaftliche Formen des Gedenkens bzw. der=0D=0AAuseinandersetzung mit der Vergangenheit.=0D=0A=0D=0AMit:=0D=0A=0D=0AImpuls: Sven Ellerbrock, Fotograf, Kurator der Ausstellung=0D=0A„Auschwitz, Fußnoten“=0D=0A=0D=0ABarbara Hartje, Freundeskreis KZ-Gedenkstätte Neuengamme e.V. für=0D=0Adie Initiativgruppe Gedenkort Kinderkrankenhaus Rothenburgsort=0D=0A=0D=0ADr. Kim Todzi, Historiker, bis März 2025 wissenschaftlicher=0D=0AKoordinator des Projektverbundes „Forschungsstelle ‚Hamburgs=0D=0A(post-)koloniales Erbe / Hamburg und die frühe Globalisierung’“=0D=0A=0D=0AMichael Batz, Autor und Lichtkünstler, engagiert sich u.a. für die=0D=0ASichtbarmachung Orte jüdischen Lebens in Hamburg=0D=0A=0D=0AModeration: Corinna Below, Journalistin=0D=0A=0D=0AEine Veranstaltung im Rahmen der Woche des Gedenkens des Bezirks=0D=0AHamburg-Mitte.=0D=0A
URL;VALUE=URI:https://hamburgwhl.infomaxnet.de/standard_widget_de/e-unsichtbare-geschichte-sichtbar-machen?eventDateId=30132153&widgetToken=22vcqFKw4GE.&
CLASS:PUBLIC
DTSTART:20260422T190000
DTSTAMP:20260422T172813
END:VEVENT
END:VCALENDAR