BEGIN:VCALENDAR
VERSION:2.0
PRODID:http://www.infomax-online.de/imxeventmanager/
METHOD:PUBLISH
BEGIN:VTIMEZONE
TZID:Europe/Berlin
TZURL:http://tzurl.org/zoneinfo-outlook/Europe/Berlin
X-LIC-LOCATION:Europe/Berlin
END:VTIMEZONE
BEGIN:VEVENT
UID:69e82c4623873
LOCATION:Reeperbahn 152, 20359 Hamburg
SUMMARY;ENCODING=QUOTED-PRINTABLE:Kinky Comedy - New Material Night
DESCRIPTION;ENCODING=QUOTED-PRINTABLE:KINKY COMEDY – Die verruchte Stand-Up Night auf der Reeperbahn!=0D=0A=0D=0AWillkommen zu Hamburgs sündigster Comedy-Show!=0D=0A=0D=0AJeden Mittwoch um 19:00 Uhr öffnen sich die Türen einer geheimen=0D=0ALocation auf der Reeperbahn – und was dahinter passiert, bringt dich=0D=0Anicht nur zum Erröten, sondern auch zum Lachen!=0D=0A=0D=0ABei der KINKY COMEDY New Material Night testen 6-8 Comedians ihre=0D=0Aneuesten Gags und Stories – roh, unzensiert und garantiert mit jeder=0D=0AMenge Augenzwinkern. Was dabei rauskommt, ist eine exklusive Show in=0D=0Aeiner exklusiven Location.=0D=0A=0D=0AWann? Jeden Mittwoch, 19:00 Uhr??Wo? Geheime Location auf der=0D=0AReeperbahn (exakte Location nach Buchung).=0D=0A=0D=0AStreng limitiert – sichere dir dein Ticket, bevor’s zu heiß wird!=0D=0A=0D=0AWir freuen uns schon auf euch!=0D=0A
URL;VALUE=URI:https://hamburgwhl.infomaxnet.de/standard_widget_de/e-kinky-comedy-new-material-night?eventDateId=30130490&widgetToken=22vcqFKw4GE.&
CLASS:PUBLIC
DTSTART:20260422T170000
DTSTAMP:20260422T040246
END:VEVENT
END:VCALENDAR