BEGIN:VCALENDAR
VERSION:2.0
PRODID:http://www.infomax-online.de/imxeventmanager/
METHOD:PUBLISH
BEGIN:VTIMEZONE
TZID:Europe/Berlin
TZURL:http://tzurl.org/zoneinfo-outlook/Europe/Berlin
X-LIC-LOCATION:Europe/Berlin
END:VTIMEZONE
BEGIN:VEVENT
UID:69ea618a64855
LOCATION:Bundesstraße 52, 20146 Hamburg
SUMMARY;ENCODING=QUOTED-PRINTABLE:Sonderausstellung "Menschen machen Museum - Präparation"
DESCRIPTION;ENCODING=QUOTED-PRINTABLE:Was passiert hinter den Türen eines Forschungsmuseums?=0D=0A=0D=0AVorhang auf für die Präparation!=0D=0A=0D=0AWas auf den ersten Blick lebendig wirkt, ist das Ergebnis eines=0D=0Aaufwendigen Zusammenspiels aus Handwerk, Wissenschaft und Gestaltung.=0D=0AIn unseren Präparationswerkstätten entstehen Objekte, die Tiere und=0D=0APflanzen dauerhaft bewahren – für Forschung, Sammlung und=0D=0AAusstellung. Der neue Ausstellungsteil der Reihe „Menschen machen=0D=0AMuseum“ widmet sich dieser meist verborgenen Arbeit sowie den=0D=0AMenschen, die sie ausführen.=0D=0A=0D=0AUnsere biologischen Präparatoren arbeiten mit Materialien wie Haut,=0D=0AKnochen, Gips, Silikon, Harz und Farbe. Sie restaurieren historische=0D=0ATierpräparate, fertigen Forschungsobjekte für die Sammlung an und=0D=0Agestalten Ausstellungsstücke, die Größe, Haltung und Ausdruck eines=0D=0ATieres überzeugend wiedergeben. Dabei reicht das Spektrum von=0D=0Akleinsten Details wie Augen oder Hautstrukturen bis hin zu=0D=0Agroßformatigen Modellen ganzer Tiere und Lebensräume.=0D=0A=0D=0ADer neue Teil der Sonderausstellung zeigt, wie Präparate entstehen=0D=0A– und stellt zugleich die Frage, was „echt“ bedeutet. Einige=0D=0AObjekte bestehen aus originalem Tiermaterial, andere sind vollständig=0D=0Amodelliert oder abgeformt. Augen werden ersetzt, Körper nachgebaut,=0D=0AOberflächen bemalt. Ziel ist nicht Täuschung, sondern Erkenntnis:=0D=0Aein möglichst genauer, anschaulicher Zugang zur Vielfalt der Natur.=0D=0A=0D=0AGleichzeitig wird deutlich, dass Präparate immer auch ihre=0D=0AEntstehungszeit widerspiegeln. Historische Jagdtrophäen, frühe=0D=0ADioramen und ältere Präparationen erzählen von wechselnden=0D=0AVorstellungen von Natur, Macht und Wissen. Moderne Präparation=0D=0Aversteht Tiere hingegen als Teil komplexer Ökosysteme und als=0D=0Aschützenswerte Lebewesen.=0D=0A=0D=0ASo eröffnet die Ausstellung einen Blick auf die Präparation als=0D=0Akulturelle und wissenschaftliche Praxis – und auf die Menschen,=0D=0Aderen Arbeit es ermöglicht, Natur im Museum sichtbar, begreifbar und=0D=0Aerforschbar zu machen.=0D=0A
URL;VALUE=URI:https://hamburgwhl.infomaxnet.de/standard_widget_de/e-sonderausstellung-menschen-machen-museum-praeparation?eventDateId=30127517&widgetToken=22vcqFKw4GE.&
CLASS:PUBLIC
DTSTART:20260428T100000
DTSTAMP:20260423T201434
END:VEVENT
END:VCALENDAR