BEGIN:VCALENDAR
VERSION:2.0
PRODID:http://www.infomax-online.de/imxeventmanager/
METHOD:PUBLISH
BEGIN:VTIMEZONE
TZID:Europe/Berlin
TZURL:http://tzurl.org/zoneinfo-outlook/Europe/Berlin
X-LIC-LOCATION:Europe/Berlin
END:VTIMEZONE
BEGIN:VEVENT
UID:69e9e70168b89
LOCATION:Manfred-Samusch-Straße 3, 22926 Ahrensburg
SUMMARY;ENCODING=QUOTED-PRINTABLE:Tüftel! Bau! Entdecke! - Fahrzeuge der Zukunft
DESCRIPTION;ENCODING=QUOTED-PRINTABLE:Die Stadtbücherei Ahrensburg lädt in Kooperation mit Kinder forschen=0D=0ASchleswig-Holstein Ost e.V. zu einem kreativen=0D=0A(Groß)Eltern-Kind-Workshop ein.=0D=0A=0D=0AWie bewegen wir uns in der Stadt der Zukunft? In diesem=0D=0AMitmach-Workshop entwickeln (Groß)Eltern gemeinsam mit ihren Kindern=0D=0Anachhaltige Fortbewegungsmittel – aus Alltagsmaterialien, mit viel=0D=0AFantasie und Freude am Ausprobieren.=0D=0A=0D=0AUnter dem Motto „TÜFTEL! BAU! ENTDECKE!“ entstehen kleine=0D=0APrototypen, die zeigen, wie Mobilität von morgen aussehen könnte. Ob=0D=0Afliegendes Fahrrad, solarbetriebener Roller oder ganz neue Erfindungen=0D=0A– erlaubt ist, was gefällt.=0D=0A=0D=0ADer Workshop richtet sich an Tandems aus (Groß)Elternteil und Kind im=0D=0AAlter von 6 bis 9 Jahren. Pro Durchgang können 6 Tandems teilnehmen.=0D=0ADie Teilnahme ist kostenlos, eine Anmeldung aber erforderlich.=0D=0A=0D=0ATermine (jeweils 45 Minuten):=0D=0A10:00 – 10:45 Uhr=0D=0A11:00 – 11:45 Uhr=0D=0A12:00 – 12:45 Uhr=0D=0A=0D=0AAnmeldung: Stadtbücherei Ahrensburg, Telefon: 04102 / 77=0D=0A172, E-Mail: stadtbuecherei@ahrensburg.de=0D=0A=0D=0AWie bewegen wir uns in der Stadt der Zukunft? In=0D=0Adiesem Mitmach-Workshop entwickeln (Groß)Eltern gemeinsam mit=0D=0Aihren Kindern nachhaltige Fortbewegungsmittel – aus=0D=0AAlltagsmaterialien,=0D=0Amit viel Fantasie und Freude am Ausprobieren.=0D=0AEs entstehen kleine Prototypen, die zeigen, wie Mobilität von morgen=0D=0Aaussehen könnte. Ob fliegendes Fahrrad, solarbetriebener Roller oder=0D=0Aganz neue Erfindungen – erlaubt ist, was gefällt.=0D=0A=0D=0AVeranstalter: Stadtbücherei Ahrensburg=0D=0A
URL;VALUE=URI:https://hamburgwhl.infomaxnet.de/standard_widget_de/e-tueftel-bau-entdecke-fahrzeuge-der-zukunft?eventDateId=30127271&widgetToken=22vcqFKw4GE.&
CLASS:PUBLIC
DTSTART:20260425T110000
DTSTAMP:20260423T113145
END:VEVENT
END:VCALENDAR