BEGIN:VCALENDAR
VERSION:2.0
PRODID:http://www.infomax-online.de/imxeventmanager/
METHOD:PUBLISH
BEGIN:VTIMEZONE
TZID:Europe/Berlin
TZURL:http://tzurl.org/zoneinfo-outlook/Europe/Berlin
X-LIC-LOCATION:Europe/Berlin
END:VTIMEZONE
BEGIN:VEVENT
UID:69ea2d3befa73
LOCATION:Bademutterstraße 2, 23966 Wismar
SUMMARY;ENCODING=QUOTED-PRINTABLE:Apotheken Sessions - Lina Piacentini
DESCRIPTION;ENCODING=QUOTED-PRINTABLE:Diesmal verzaubert uns Lina Piacentini mit Herz, Stimme und ihrer=0D=0AUkulele im Café. Handgemachte Musik, Kerzenschein & Wein. Eintritt=0D=0Afrei (Hutspende). Sei dabei=0D=0A=0D=0A =0D=0A=0D=0AWenn flackernde Kerzenlicht auf gemütliche Wohnzimmeratmosphäre=0D=0Atrifft, ist es wieder Zeit für die APOTHEKEN SESSIONS. Einmal im=0D=0AMonat verwandeln wir das Café nebenan in eine Bühne für besondere=0D=0AStimmen und handgemachte Klänge. Dieses Mal freuen wir uns auf eine=0D=0AKünstlerin, die zeigt, wie viel Seele in vier Saiten stecken kann:=0D=0ALINA PIACENTINI.=0D=0A=0D=0AFür die Berliner Singer-Songwriterin Lina Piacentini ist die Antwort=0D=0Aauf die Sinnfrage simpel: MUSIK. Ihr Weg begann klassisch mit fünf=0D=0AJahren an der Geige, doch schon damals siegte das Gefühl über die=0D=0ATheorie – statt starr auf Notenblätter zu schauen, lernte sie die=0D=0AStücke lieber nach Gehör. Der entscheidende Funke sprang in der=0D=0Aersten Klasse über, als ein Lob ihrer Lehrerin eine lebenslange=0D=0ALeidenschaft für den Gesang entfachte. Über den Umweg der Gitarre=0D=0Afand sie vor einem Jahrzehnt schließlich ihre große Liebe: die=0D=0AUKULELE.=0D=0A=0D=0AIn Linas Händen wird die oft unterschätzte Ukulele zu einem=0D=0Akraftvollen Werkzeug für tiefe Emotionen. Mit einer Mischung aus=0D=0Atechnischem Können und purer Leidenschaft beweist sie, dass dieses=0D=0Akleine Instrument weit mehr ist als nur ein fröhlicher Begleiter.=0D=0AIhre Musik ist ehrlich, nahbar und getragen von einer Stimme, die=0D=0AGeschichten erzählt, noch bevor das erste Wort gesungen ist.=0D=0A=0D=0AWie immer ist der EINTRITT FREI. Wir möchten Musik für jeden=0D=0Azugänglich machen. Am Ende des Abends „geht der Hut rum“ – eine=0D=0Awunderbare Gelegenheit, Lina Piacentini direkt zu unterstützen und=0D=0Adeine Wertschätzung für ihre Kunst zu zeigen.=0D=0A=0D=0AKomm vorbei, such dir einen gemütlichen Platz und lass dich von der=0D=0AEnergie dieser passionierten Künstlerin verzaubern. Wir freuen uns=0D=0Aauf einen unvergesslichen Abend mit euch!=0D=0A=0D=0A =0D=0A
URL;VALUE=URI:https://hamburgwhl.infomaxnet.de/standard_widget_de/e-apotheken-sessions-lina-piacentini?eventDateId=30121370&widgetToken=22vcqFKw4GE.&
CLASS:PUBLIC
DTSTART:20260423T200000
DTSTAMP:20260423T163123
END:VEVENT
END:VCALENDAR