BEGIN:VCALENDAR
VERSION:2.0
PRODID:http://www.infomax-online.de/imxeventmanager/
METHOD:PUBLISH
BEGIN:VTIMEZONE
TZID:Europe/Berlin
TZURL:http://tzurl.org/zoneinfo-outlook/Europe/Berlin
X-LIC-LOCATION:Europe/Berlin
END:VTIMEZONE
BEGIN:VEVENT
UID:69e813d62a7d4
LOCATION:Kirchenallee 39, 20099 Hamburg
SUMMARY;ENCODING=QUOTED-PRINTABLE:Das Bildnis des Dorian Gray
DESCRIPTION;ENCODING=QUOTED-PRINTABLE:von Oscar Wilde. Regie: Tristan Linder.=0D=0A=0D=0ADas Schulterzucken ist zurück. Klimakrise, soziale Ungleichheit,=0D=0Apolitische Instabilität – man kennt den Abgrund, doch statt=0D=0AWiderstand dominieren Weltverdrossenheit, hemmungslose=0D=0ASelbstinszenierung, Ironie und die Feier der schönen Dinge. Was ist=0D=0Ada los? Vielleicht bietet Oscar Wildes Kultroman eine Antwort. »Das=0D=0ABildnis des Dorian Gray« besticht durch hinreißende Eleganz – das=0D=0ABuch ebenso wie seine Titelfigur, zumindest auf den ersten Blick.=0D=0A„Alle Kunst ist zugleich Oberfläche und Symbol. Wer unter die=0D=0AOberfläche geht, tut es auf eigene Gefahr“, warnt Wilde in der=0D=0AVorrede seines Romans. Genau darum geht es: um das Abtauchen zwischen=0D=0Adie Zeilen, hinter die Worte. Was lässt sich dort entdecken?=0D=0A=0D=0ABleibt Hemmungslosigkeit wirklich ohne Konsequenzen? Oder wie ist es=0D=0Azu deuten, dass Dorian Gray so schamlos seinen Weg geht? Warum hat er=0D=0Aseinen moralischen Kompass verloren? Ist er – über die Zeiten=0D=0Ahinweg – eine Spiegelfigur unserer Gegenwart, die mehr über unsere=0D=0Aeigenen Begierden verrät, als uns lieb ist? Der Maler des Porträts=0D=0Ajedenfalls will das Bild nicht ausstellen: „Ich habe zu viel von mir=0D=0Aselbst hineingebracht“, sagt er. Was lässt ihn zögern? Und was ist=0D=0Aes, das diesem Werk seine unheimliche Zeitlosigkeit verleiht?=0D=0A=0D=0ATristan Linder studierte Schauspielregie an der Theaterakademie=0D=0AHamburg. Mit seiner Inszenierung »Sandmann« ist er 2025 zum Körber=0D=0AStudio Junge Regie eingeladen. »Das Bildnis des Dorian Gray« ist=0D=0Aseine erste Arbeit am SchauSpielHaus.=0D=0A
URL;VALUE=URI:https://hamburgwhl.infomaxnet.de/standard_widget_de/e-das-bildnis-des-dorian-gray?eventDateId=30121336&widgetToken=22vcqFKw4GE.&
CLASS:PUBLIC
DTSTART:20260515T193000
DTSTAMP:20260422T021830
END:VEVENT
END:VCALENDAR