BEGIN:VCALENDAR
VERSION:2.0
PRODID:http://www.infomax-online.de/imxeventmanager/
METHOD:PUBLISH
BEGIN:VTIMEZONE
TZID:Europe/Berlin
TZURL:http://tzurl.org/zoneinfo-outlook/Europe/Berlin
X-LIC-LOCATION:Europe/Berlin
END:VTIMEZONE
BEGIN:VEVENT
UID:69ed7f62743f5
LOCATION:Messeplatz 1, 20357 Hamburg
SUMMARY;ENCODING=QUOTED-PRINTABLE:Haspa Marathon Hamburg 2026
DESCRIPTION;ENCODING=QUOTED-PRINTABLE:Der Haspa Marahon Hamburg ist Deutschlands größter=0D=0AFrühjahrsmarathon und der Erste, der seit 1986 für euch jedes Jahr=0D=0Aeine blaue Linie auf die Straße bringt. Hamburg ist schnell=0D=0A(2:05:30), die Metropole (1,8 Millionen Einwohner) lässt sich von=0D=0Aeuch begeistern und trägt euch dafür bis ins Ziel. Überzeug dich=0D=0Aselbst und Run the blue Line.=0D=0A=0D=0ASTARTZEITEN MARATHON & STAFFEL: =0D=0AStartblöcke A–L: 8:30 Uhr (Karolinenstraße)=0D=0AStartblöcke M–Q 09:00 Uhr (Bei den Kirchhöfen)=0D=0A=0D=0ASTARTZEIT HALBMARATHON: 14:00 Uhr=0D=0A=0D=0A =0D=0A
URL;VALUE=URI:https://hamburgwhl.infomaxnet.de/standard_widget_de/e-haspa-marathon?eventDateId=30121106&widgetToken=22vcqFKw4GE.&
CLASS:PUBLIC
DTSTART:20260426T083000
DTSTAMP:20260426T045842
END:VEVENT
END:VCALENDAR