BEGIN:VCALENDAR
VERSION:2.0
PRODID:http://www.infomax-online.de/imxeventmanager/
METHOD:PUBLISH
BEGIN:VTIMEZONE
TZID:Europe/Berlin
TZURL:http://tzurl.org/zoneinfo-outlook/Europe/Berlin
X-LIC-LOCATION:Europe/Berlin
END:VTIMEZONE
BEGIN:VEVENT
UID:69e9e6529cbcd
LOCATION:Am Markt , 21335 Lüneburg
SUMMARY;ENCODING=QUOTED-PRINTABLE:Rathausführung April - Dezember
DESCRIPTION;ENCODING=QUOTED-PRINTABLE:Eines der schönsten Rathäuser Norddeutschlands und ältesten=0D=0AGebäude Lüneburgs – das Rathaus ist eine absolute Empfehlung für=0D=0Ajeden Besucher der Stadt.=0D=0A=0D=0ADie ältesten Teile des Gebäudes entstanden bereits um 1230, es wurde=0D=0Aaber bis in die Barockzeit erweitert. Diese Führung ist ein Streifzug=0D=0Adurch die Jahrhunderte und führt Sie durch die prachtvollen Räume=0D=0Aaus der Gotik und der Renaissance, entlang fantastischer Schnitzereien=0D=0Aund Gemälde. Kaum an einem anderen Ort ist die Geschichte Lüneburgs=0D=0Aso spürbar wie hier!=0D=0A =0D=0A=0D=0A =0D=0A
URL;VALUE=URI:https://hamburgwhl.infomaxnet.de/standard_widget_de/e-rathausfuehrung-april-dezember?eventDateId=30119262&widgetToken=22vcqFKw4GE.&
CLASS:PUBLIC
DTSTART:20260424T140000
DTSTAMP:20260423T112850
END:VEVENT
END:VCALENDAR