BEGIN:VCALENDAR
VERSION:2.0
PRODID:http://www.infomax-online.de/imxeventmanager/
METHOD:PUBLISH
BEGIN:VTIMEZONE
TZID:Europe/Berlin
TZURL:http://tzurl.org/zoneinfo-outlook/Europe/Berlin
X-LIC-LOCATION:Europe/Berlin
END:VTIMEZONE
BEGIN:VEVENT
UID:69ed440e5907c
LOCATION:Hammeweg 10-12, 27726 Worpswede
SUMMARY;ENCODING=QUOTED-PRINTABLE:Abenddämmerungsfahrt mit dem Torfkahn
DESCRIPTION;ENCODING=QUOTED-PRINTABLE:Zwischen Tag und Nacht liegt ein zauberhafter Moment – die=0D=0AAbenddämmerung.=0D=0A=0D=0AErlebe mit uns die magische Abenddämmerung des Teufelsmoores. =0D=0A=0D=0ADie Torfkahnfahrt in der Abenddämmerung auf der Hamme startet und=0D=0Aendet am Anleger Neu Helgoland im Hammehafen in Worpswede.=0D=0A=0D=0ANur WENIGE Termine verfügbar!=0D=0A=0D=0AHINWEIS: Anmeldung erforderlich - Keine Restplatzvergabe vor Ort!=0D=0A=0D=0AErwachsene € 15,- und Kinder € 9,-=0D=0A
URL;VALUE=URI:https://hamburgwhl.infomaxnet.de/standard_widget_de/e-abenddaemmerungsfahrt-mit-dem-torfkahn?eventDateId=30118584&widgetToken=22vcqFKw4GE.&
CLASS:PUBLIC
DTSTART:20260502T200000
DTSTAMP:20260426T004534
END:VEVENT
END:VCALENDAR