BEGIN:VCALENDAR
VERSION:2.0
PRODID:http://www.infomax-online.de/imxeventmanager/
METHOD:PUBLISH
BEGIN:VTIMEZONE
TZID:Europe/Berlin
TZURL:http://tzurl.org/zoneinfo-outlook/Europe/Berlin
X-LIC-LOCATION:Europe/Berlin
END:VTIMEZONE
BEGIN:VEVENT
UID:69eb714231a3c
LOCATION:Schloßstraße 5, 21465 Reinbek
SUMMARY;ENCODING=QUOTED-PRINTABLE:VERLÄNGERT: Fadenscheinige Typen
DESCRIPTION;ENCODING=QUOTED-PRINTABLE:Ausstellung von Upcycling Marionetten des Künstlers Peter Beyer im=0D=0ASchloss Reinbek - jetzt bis zum 3. Mai verlängert!=0D=0A=0D=0AAn den Feiertagen Karfreitag, Ostersonntag, Ostermontag und 1. Mai=0D=0Ageöffnet.=0D=0A=0D=0AEs sind außergewöhnliche Marionetten, die der Kieler Künstler=0D=0APeter Beyer baut. Seine Figuren haben Charakter, Witz und=0D=0AOriginalität, die den Betrachter mindestens zum Schmunzeln bringen.=0D=0AUnd dabei arbeitet Peter Beyer ausgesprochen nachhaltig: Seine=0D=0AMarionetten bestehen ausschließlich aus Materialien, die andere=0D=0Awegwerfen. =0D=0A=0D=0AVor ziemlich genau 50 Jahren fing alles an. Mit seinem Vater besuchte=0D=0APeter Beyer ein kleines Figurentheater in Rothenburg ob der Tauber.=0D=0ARolf Trexler, der Figurenspieler infizierte ihn mit dem=0D=0APuppenspielvirus.=0D=0A=0D=0AEr begann mit allen möglichen Materialien Marionetten zu bauen.=0D=0AModellieren, Schnitzen, Kleben und bemalen - das war seine Welt und er=0D=0Alernte durch ausprobieren, Literatur und Besuche von=0D=0AMarionettenaufführungen.=0D=0AFigurenbildner Arne Busdorf hat ihm die Grundregeln des Schnitzens=0D=0Abeigebracht. Mit der Zeit wurden die Materialien immer ausgefallener.=0D=0AZerquetschte Bierdosen, Plastikflaschen aller Art, Ofenrohre,=0D=0AMotorradteile - kurzum, alles was interessante Formen hat, wird gerne=0D=0Azu einer Marionette gemacht.=0D=0AAber auch Lindenholz, alte Dachlatten, Packpapier, gebrauchte Stoffe,=0D=0AHeißklebe, Kleister, Holzleim und Vogelsand kommen zum Einsatz.=0D=0A=0D=0ALange Zeit war Peter Beyer Dozent an der Volkshochschule Kiel, ist=0D=0Aausgebildeter Kulturvermittler und hat an vielen Orten in Deutschland=0D=0AWorkshops gegeben.=0D=0AAusstellungen folgten unter anderem im Städtischen Museum=0D=0ABraunschweig, in Suhl, Carlshöhe Eckernförde. Außerdem wirkte er=0D=0Amit beim „Puppets for people Festival“ im Wendland und hat eine=0D=0AAusstellung in Braunschweig über den Figurenspieler Prof. Harro=0D=0ASiegel mitgestaltet. =0D=0A=0D=0AZur Vernissage am Sonntag, den 01.02.26, 11:30 Uhr ist der Eintritt=0D=0Afrei. =0D=0ADie Leiterin des Kulturzentrums Schloss Reinbek wird mit dem Künstler=0D=0APeter Beyer in einem Gespräch in die Ausstellung einführen. =0D=0A=0D=0AAusstellungsbegleitend wird es im Schloss Reinbek außerdem zwei=0D=0AWorkshops für Groß und Klein geben:=0D=0ASonntag, 1.2.2026 im Rahmen der Eröffnung=0D=0ASamstag, 14.3.2026 von 14 - 17 Uhr während des Österlichen=0D=0AKunsthandwerkermarktes=0D=0A
URL;VALUE=URI:https://hamburgwhl.infomaxnet.de/standard_widget_de/e-fadenscheinige-typen?eventDateId=30116499&widgetToken=22vcqFKw4GE.&
CLASS:PUBLIC
DTSTART:20260429T100000
DTSTAMP:20260424T153354
END:VEVENT
END:VCALENDAR