BEGIN:VCALENDAR
VERSION:2.0
PRODID:http://www.infomax-online.de/imxeventmanager/
METHOD:PUBLISH
BEGIN:VTIMEZONE
TZID:Europe/Berlin
TZURL:http://tzurl.org/zoneinfo-outlook/Europe/Berlin
X-LIC-LOCATION:Europe/Berlin
END:VTIMEZONE
BEGIN:VEVENT
UID:69e85afd1f0ed
LOCATION:Nystedplatz , 23747 Dahme
SUMMARY;ENCODING=QUOTED-PRINTABLE:Der Zuhörkorb
DESCRIPTION;ENCODING=QUOTED-PRINTABLE:Zuhörkorb mit Urlaubsseelsorger Pater Ralf.=0D=0A
URL;VALUE=URI:https://hamburgwhl.infomaxnet.de/standard_widget_de/e-der-zuhoerkorb?eventDateId=30116481&widgetToken=22vcqFKw4GE.&
CLASS:PUBLIC
DTSTART:20260429T100000
DTSTAMP:20260422T072205
END:VEVENT
END:VCALENDAR