BEGIN:VCALENDAR
VERSION:2.0
PRODID:http://www.infomax-online.de/imxeventmanager/
METHOD:PUBLISH
BEGIN:VTIMEZONE
TZID:Europe/Berlin
TZURL:http://tzurl.org/zoneinfo-outlook/Europe/Berlin
X-LIC-LOCATION:Europe/Berlin
END:VTIMEZONE
BEGIN:VEVENT
UID:69e62f5f297ca
LOCATION:Platz der Deutschen Einheit 1, 20457 Hamburg
SUMMARY;ENCODING=QUOTED-PRINTABLE:Talente entdecken: Svetlana Andreeva / Klavierabend
DESCRIPTION;ENCODING=QUOTED-PRINTABLE:»Doppelgänger: Schatten des Ichs«. In ihrem so überschriebenen=0D=0AProgramm begibt sich Svetlana Andreeva auf die Suche nach dem Selbst=0D=0Ain der Musik. Dazu ist vorweg zu sagen, dass sie ihr (künstlerisches)=0D=0ASelbst längst gefunden hat – was nicht zuletzt ihr fulminanter Sieg=0D=0Abeim Concours international de piano d’Orléans 2024 beweist. Der=0D=0AWettbewerb ist ganz der Musik des 20. und 21. Jahrhunderts gewidmet=0D=0A– ein Heimspiel für die Ukrainerin, die leidenschaftliche=0D=0AInterpretin zeitgenössischer Werke ist und neben Klavier auch noch=0D=0AKomposition studierte. In ihrem Programm setzt Svetlana Andreeva den=0D=0AFokus fast ausschließlich auf Repertoire des frühen 20.=0D=0AJahrhunderts: Mit Leoš Janáček tastet sie sich durch die Nebel=0D=0Aseines gleichnamigen Zyklus, wirft einen Blick hinter Karol=0D=0ASzymanowksis Masken, erlebt Höllenfahrt und Erlösung in Alexander=0D=0ASkrjabins »schwarzer« und »weißer« Messe. Eine spannende=0D=0AMusik-Reise an die Grenzen des Bewusstseins.=0D=0A=0D=0ABESETZUNG=0D=0A=0D=0ASVETLANA ANDREEVA Klavier=0D=0A=0D=0APROGRAMM=0D=0A=0D=0ATHIERRY ESCAICH=0D=0ALes Litanies de l’ombre=0D=0A=0D=0ALEOŠ JANÁČEK=0D=0AIm Nebel=0D=0A=0D=0AKAROL SZYMANOWSKI=0D=0AMasken=0D=0A=0D=0A- Pause -=0D=0A=0D=0AALEXANDER SKRJABIN=0D=0ASonate Nr. 9 F-Dur op. 68 »Schwarze Messe«=0D=0A=0D=0ATRISTAN MURAIL=0D=0ALa Mandragore=0D=0A=0D=0AMAURICE RAVEL=0D=0AOiseaux tristes=0D=0A=0D=0AALEXANDER SKRJABIN=0D=0ASonate Nr. 7 op. 64 »Weiße Messe«=0D=0A
URL;VALUE=URI:https://hamburgwhl.infomaxnet.de/standard_widget_de/e-talente-entecken-svetlana-andreeva-klavierabend?eventDateId=30114758&widgetToken=22vcqFKw4GE.&
CLASS:PUBLIC
DTSTART:20260422T193000
DTSTAMP:20260420T155127
END:VEVENT
END:VCALENDAR