BEGIN:VCALENDAR
VERSION:2.0
PRODID:http://www.infomax-online.de/imxeventmanager/
METHOD:PUBLISH
BEGIN:VTIMEZONE
TZID:Europe/Berlin
TZURL:http://tzurl.org/zoneinfo-outlook/Europe/Berlin
X-LIC-LOCATION:Europe/Berlin
END:VTIMEZONE
BEGIN:VEVENT
UID:69e63095d1f95
LOCATION:Platz der Deutschen Einheit 1, 20457 Hamburg
SUMMARY;ENCODING=QUOTED-PRINTABLE:NDR Elbphilharmonie Orchester / Vadim Gluzman / Martin Fröst / Sakari=0D=0AOramo
DESCRIPTION;ENCODING=QUOTED-PRINTABLE:Richard Strauss’ Serenade op. 7 ist das Werk eines 17-Jährigen. Der=0D=0AJungmeister ging noch ans Gymnasium, als er sein Stück vollendete.=0D=0ADoch der berühmte Dirigent Hans von Bülow setzte sich für das Werk=0D=0Aein und legte den Grundstein zu Strauss’ Erfolg. Der junge Komponist=0D=0Aplatze nach der Aufführung denn auch vor Stolz und Selbstbewusstsein:=0D=0A»Also, die Serenade hat gefallen«, schrieb er seinem Vater, »sie=0D=0Ahatte fast denselben Erfolg wie die [Streicherserenade] von=0D=0AWeingartner, die sehr hübsch ist, trotzdem nach Bülow die meinige=0D=0Adas beste von den drei Stücken [des Konzerts] ist.«=0D=0A=0D=0AMit ihrem Doppelkonzert »Distans« hat die lange Zeit in Schottland=0D=0Alebende, englische Komponistin Sally Beamish ein Distanzen=0D=0Aüberbrückendes, völkerverbindendes Werk geschaffen. Sie integrierte=0D=0Ain ihr Konzert Elemente der schottischen, holländischen und=0D=0Aschwedischen Musik. »Halb erinnerte und halb erfundene Stränge von=0D=0AVolksmusik und -tanz« (Beamish) ziehen sich durch das Werk, das=0D=0ABeamish u.a. für den schwedischen Klarinettisten und Artist in=0D=0AResidence 2025/26 des NDR Elbphilharmonie Orchesters Martin Fröst=0D=0Akomponierte. Den Violinpart übernimmt der ukrainisch-israelische=0D=0AGeiger Vadim Gluzman, der zuletzt mit Schostakowitschs Zweitem=0D=0AViolinkonzert beim NDR Elbphilharmonie Orchester geglänzt hat.=0D=0A=0D=0AEine »griechisch schlanke Maid zwischen zwei Nordlandriesen« nannte=0D=0ARobert Schumann die von der mächtigen »Eroica« und der tragischen=0D=0ASchicksalssinfonie umrahmte Vierte Sinfonie von Beethoven. Sie ist=0D=0Akürzer, kecker, klassischer als ihre gewichtigen Schwesterwerke.=0D=0ADamit war die Vierte schon immer etwas für Kenner und Genießer. Als=0D=0AFelix Mendelssohn sein Kapellmeisteramt am Leipziger Gewandhaus=0D=0Aantrat, wählte er für sein Debüt die Vierte. Und Hector Berlioz=0D=0Abefand, deren langsamer Satz könne nur das Werk eine Erzengels und=0D=0Anicht das eines Menschen sein.=0D=0A=0D=0ABESETZUNG=0D=0A=0D=0ANDR ELBPHILHARMONIE ORCHESTER Orchester=0D=0A=0D=0AVADIM GLUZMAN Violine=0D=0A=0D=0AMARTIN FRÖST Klarinette=0D=0A=0D=0ASAKARI ORAMO Dirigent=0D=0A=0D=0APROGRAMM=0D=0A=0D=0ARICHARD STRAUSS=0D=0ASerenade für Blasinstrumente Es-Dur op. 7=0D=0A=0D=0ASALLY BEAMISH=0D=0ADistans=0D=0A=0D=0A- Pause -=0D=0A=0D=0ALUDWIG VAN BEETHOVEN=0D=0ASinfonie Nr. 4 B-Dur op. 60=0D=0A
URL;VALUE=URI:https://hamburgwhl.infomaxnet.de/standard_widget_de/e-ndr-elbphilharmonie-orchester-vadim-gluzman-martin-froest-sakari-oramo-1?eventDateId=30114756&widgetToken=22vcqFKw4GE.&
CLASS:PUBLIC
DTSTART:20260423T200000
DTSTAMP:20260420T155637
END:VEVENT
END:VCALENDAR