BEGIN:VCALENDAR
VERSION:2.0
PRODID:http://www.infomax-online.de/imxeventmanager/
METHOD:PUBLISH
BEGIN:VTIMEZONE
TZID:Europe/Berlin
TZURL:http://tzurl.org/zoneinfo-outlook/Europe/Berlin
X-LIC-LOCATION:Europe/Berlin
END:VTIMEZONE
BEGIN:VEVENT
UID:69ec1cb699212
LOCATION:Bleeck 16, 24576 Bad Bramstedt
SUMMARY;ENCODING=QUOTED-PRINTABLE:Wanderung durchs Auenland
DESCRIPTION;ENCODING=QUOTED-PRINTABLE:Genießt einen wunderbaren Tag und die Natur!=0D=0A=0D=0AUnser Klassiker, die “Wanderung durchs Auenland”, geht am 25.=0D=0AApril 2026 bereits in die sechste Runde und wir laden herzlich dazu=0D=0Aein, diesen Tag mit uns zu verbringen. Wir wollen erneut mit Euch=0D=0Adurch das Auenland in und um Bad Bramstedt wandern und das=0D=0AFrühlingswetter im Wonnemonat Mai genießen.=0D=0A=0D=0AEs wird 3 verschiedene Strecken geben, sodass für jeden=0D=0AWanderlustigen eine Distanz dabei ist. Egal ob Ihr die kürzeste=0D=0AStrecke mit 16 km oder die längste mit 48 km wandern möchtet: es=0D=0Awird ein toller Tag. Je nach Streckenlänge gibt es ein bis drei=0D=0AVerpflegungspunkte. Hier könnt Ihr Euch bei einigen Leckereien=0D=0Astärken. Seid dabei, wenn es wieder gilt: Genießt den Tag und die=0D=0ANatur. Es geht nicht darum als Erstes ins Ziel zu kommen, sondern die=0D=0AStrecke und die Natur im eigenen Wohlfühltempo zu genießen. Eines=0D=0Aist sicher: Euer Lächeln trägt Euch ins Ziel!=0D=0AWir freuen uns auf einen tollen Tag mit Euch!=0D=0A
URL;VALUE=URI:https://hamburgwhl.infomaxnet.de/standard_widget_de/e-wanderung-durchs-auenland?eventDateId=30104435&widgetToken=22vcqFKw4GE.&
CLASS:PUBLIC
DTSTART:20260425T080000
DTSTAMP:20260425T034526
END:VEVENT
END:VCALENDAR