BEGIN:VCALENDAR
VERSION:2.0
PRODID:http://www.infomax-online.de/imxeventmanager/
METHOD:PUBLISH
BEGIN:VTIMEZONE
TZID:Europe/Berlin
TZURL:http://tzurl.org/zoneinfo-outlook/Europe/Berlin
X-LIC-LOCATION:Europe/Berlin
END:VTIMEZONE
BEGIN:VEVENT
UID:69e80f97063ac
LOCATION:Johannes-Brahms-Platz , 20355 Hamburg
SUMMARY;ENCODING=QUOTED-PRINTABLE:Kammerkonzert der Symphoniker Hamburg
DESCRIPTION;ENCODING=QUOTED-PRINTABLE:Unter dem Titel »Streichquartett meets Piano« treffen=0D=0Aunterschiedliche kammermusikalische Klangwelten aufeinander.=0D=0AMitglieder der Symphoniker Hamburg musizieren in=0D=0AStreichquartett-Besetzungen gemeinsam mit Pianistin Ye-eun Park und=0D=0Apräsentieren ein Programm, das Tradition und Gegenwart miteinander=0D=0Averbindet. =0D=0AIn der ersten Konzerthälfte erklingen gleich drei Werke einer für=0D=0AStreichquartett ungewöhnlichen Besetzung mit Kontrabass. Bei der=0D=0AUraufführung eines neuen Werks von Nikolai Brücher, der den=0D=0ASymphonikern als langjähriger Mitarbeiter verbunden ist, treten=0D=0AVioline, Viola, Violoncello und Kontrabass in einen zeitgenössischen=0D=0ADialog. Auch die drei Fantasien von Purcell erklingen in einer=0D=0ABearbeitung für diese Besetzung. Gepaart werden diese Werke mit=0D=0ARossinis Dritte Sonate für Streicher. =0D=0A=0D=0AIm zweiten Teil des Abends erweitert sich das Klangbild zum=0D=0AKlavierquintett: Ralph Vaughan Williams’ Klavierquintett in c-Moll=0D=0Avereint romantische Ausdruckstiefe mit weitgespannten melodischen=0D=0ALinien und dichter Harmonik. Das Klavier tritt hier als=0D=0Agleichberechtigter Partner zum Streichquartett hinzu und eröffnet=0D=0Aeine neue Dimension kammermusikalischer Farbigkeit. So entsteht ein=0D=0AKonzertabend, der unterschiedliche Besetzungen und Stilrichtungen=0D=0Amiteinander verknüpft und die Vielfalt kammermusikalischen=0D=0AMusizierens aus insgesamt vier Epochen eindrucksvoll erfahrbar macht.=0D=0A=0D=0ABESETZUNG=0D=0A=0D=0AYIJU SEO Violine=0D=0A=0D=0AJUHEE LEE Viola=0D=0A=0D=0ARAFAEL MENGES Violoncello=0D=0A=0D=0ARAFAEL DA CUNHA Kontrabass=0D=0A=0D=0AYE-EUN PARK Klavier=0D=0A=0D=0APROGRAMM=0D=0A=0D=0AHENRY PURCELL=0D=0ADrei Fantasien=0D=0A=0D=0AGIOACHINO ROSSINI=0D=0ASonate Nr. 3 C-Dur für Streicher=0D=0A=0D=0ANIKOLAI BRÜCHER=0D=0ANeues Werk für Violine, Viola, Violoncello und Kontrabass=0D=0A=0D=0ARALPH VAUGHAN WILLIAMS=0D=0AKlavierquintett c-Moll=0D=0A
URL;VALUE=URI:https://hamburgwhl.infomaxnet.de/standard_widget_de/e-kammerkonzert-der-symphoniker-hamburg-19?eventDateId=30103442&widgetToken=22vcqFKw4GE.&
CLASS:PUBLIC
DTSTART:20260423T193000
DTSTAMP:20260422T020023
END:VEVENT
END:VCALENDAR