BEGIN:VCALENDAR
VERSION:2.0
PRODID:http://www.infomax-online.de/imxeventmanager/
METHOD:PUBLISH
BEGIN:VTIMEZONE
TZID:Europe/Berlin
TZURL:http://tzurl.org/zoneinfo-outlook/Europe/Berlin
X-LIC-LOCATION:Europe/Berlin
END:VTIMEZONE
BEGIN:VEVENT
UID:69eae423b658c
LOCATION:Wilstorfer Straße 71, 21073 Hamburg
SUMMARY;ENCODING=QUOTED-PRINTABLE:Filmprogramm zur Ausstellung DANIEL SPOERRI im Metropolis Kino Planet=0D=0AHarburg
DESCRIPTION;ENCODING=QUOTED-PRINTABLE:Filmprogramm zur Ausstellung DANIEL SPOERRI im Metropolis Kino Planet=0D=0AHarburg=0D=0A
URL;VALUE=URI:https://hamburgwhl.infomaxnet.de/standard_widget_de/e-filmprogramm-zur-ausstellung-daniel-spoerri-im-metropolis-kino-planet-harburg-1?eventDateId=30103438&widgetToken=22vcqFKw4GE.&
CLASS:PUBLIC
DTSTART:20260426T183000
DTSTAMP:20260424T053147
END:VEVENT
END:VCALENDAR