BEGIN:VCALENDAR
VERSION:2.0
PRODID:http://www.infomax-online.de/imxeventmanager/
METHOD:PUBLISH
BEGIN:VTIMEZONE
TZID:Europe/Berlin
TZURL:http://tzurl.org/zoneinfo-outlook/Europe/Berlin
X-LIC-LOCATION:Europe/Berlin
END:VTIMEZONE
BEGIN:VEVENT
UID:69e604c708c8f
LOCATION:Überseebrücke , 20459 Hamburg
SUMMARY;ENCODING=QUOTED-PRINTABLE:OXA - Red Era (Exklusive Preview)
DESCRIPTION;ENCODING=QUOTED-PRINTABLE:Eine Veranstaltung der Reihe OXA - Red Era=0D=0A=0D=0ARED ERA - Die Sängerin OXA ist bekannt aus dem Musical Michael=0D=0AJackson und The Voice of Germany. Mit ihrer einmaligen Show will sie=0D=0Aeigene Songs wie True to Yourself und Outcast mit besonderen=0D=0ANeuinterpretationen großer Pop-Songs verbinden. =0D=0A=0D=0ADarunter wird Michael Jackson dabei sein, Songs von Madonna, Pink,=0D=0ARihanna und viele weitere.Wer OXAs einzigartige Stimme und Energie=0D=0Aeinmal hautnah erleben möchte, bekommt hier die seltene Gelegenheit=0D=0Adazu.=0D=0A
URL;VALUE=URI:https://hamburgwhl.infomaxnet.de/standard_widget_de/e-oxa-red-era-exklusive-preview-1?eventDateId=30103407&widgetToken=22vcqFKw4GE.&
CLASS:PUBLIC
DTSTART:20260420T190000
DTSTAMP:20260420T124943
END:VEVENT
END:VCALENDAR