BEGIN:VCALENDAR
VERSION:2.0
PRODID:http://www.infomax-online.de/imxeventmanager/
METHOD:PUBLISH
BEGIN:VTIMEZONE
TZID:Europe/Berlin
TZURL:http://tzurl.org/zoneinfo-outlook/Europe/Berlin
X-LIC-LOCATION:Europe/Berlin
END:VTIMEZONE
BEGIN:VEVENT
UID:69ed94ba902b7
LOCATION:Alte Burg 1, 19306 Neustadt-Glewe
SUMMARY;ENCODING=QUOTED-PRINTABLE:BurgArt Neustadt-Glewe am 26. April 2026
DESCRIPTION;ENCODING=QUOTED-PRINTABLE:Pflanzen-& Kunsthandwerkermarkt mit vielen Kinderattraktionen -=0D=0Adrinnen & draußen=0D=0A=0D=0AAm Sonntag, den 26. April 2026, lädt die Stadt Neustadt-Glewe=0D=0Azusammen mit dem Gewerbeverein Neustadt-Glewe gemeinsam auf die Burg=0D=0Aein.=0D=0A=0D=0ADer traditionelle Pflanzen- und Kunsthandwerkermarkt, der unter dem=0D=0AMotto „Frühlingserwachen“ steht, findet von 11 – 17 Uhr in und=0D=0Aum die Burg Neustadt-Glewe statt.=0D=0A=0D=0AEs werden sich Blumen- und Pflanzenhändler, Künstler, Handwerker und=0D=0AKunsthandwerker präsentieren.=0D=0A=0D=0AViele tolle Kinderattraktionen stehen auf dem Programm: Filzen,=0D=0ASpecktein, Hufeisenwerfen & Bogenschießen sowie Basteln, Malen &=0D=0AKinder schminken.=0D=0A=0D=0AKulinarische Köstlichkeiten, süß, herzhaft, vegetarisch,… es ist=0D=0Afür jeden Gaumengeschmack etwas dabei.=0D=0A=0D=0AWir freuen uns über viele kleine und große Besucher. Der Eintritt=0D=0Azur BurgArt ist kostenfrei.=0D=0A
URL;VALUE=URI:https://hamburgwhl.infomaxnet.de/standard_widget_de/e-burgart-am-24042022?eventDateId=30102040&widgetToken=22vcqFKw4GE.&
CLASS:PUBLIC
DTSTART:20260426T110000
DTSTAMP:20260426T062946
END:VEVENT
END:VCALENDAR